Workbook
Name 施設_敷地・建物_の状況: #REF!
Name 施設_敷地・建物_の状況: #REF!
Name 施設_敷地・建物_の状況: #REF!
Name 施設_敷地・建物_の状況: #REF!
Name 施設・防犯_安全確認点検項目: #REF!
Name 施設・防犯_安全確認点検項目: #REF!
Name 施設・防犯_安全確認点検項目: #REF!
Name 施設・防犯_安全確認点検項目: #REF!
Name 施設・防犯_安全確認点検項目: #REF!
Name 施設・防犯_安全確認点検項目: #REF!
Name 職員の給与支払・異動状況: #REF!
Name 職員の給与支払・異動状況: #REF!
Name 職員の給与支払・異動状況: #REF!
Name 職員の給与支払・異動状況: #REF!
Name 職員の給与支払・異動状況: #REF!
Name 職員の給与支払・異動状況: #REF!
Name 職員の定着・確保策: #REF!
Name 職員の定着・確保策: #REF!
Name 職員の定着・確保策: #REF!
Name 職員の定着・確保策: #REF!
Name 職員の定着・確保策: #REF!
Name 職員の定着・確保策: #REF!
Name 働きやすい職場環境の整備: #REF!
Name 働きやすい職場環境の整備: #REF!
Name 働きやすい職場環境の整備: #REF!
Name 働きやすい職場環境の整備: #REF!
Name 働きやすい職場環境の整備: #REF!
Name 別紙３働きやすい職場環境整備: #REF!
Name 別紙３働きやすい職場環境整備: #REF!
Name 別紙３働きやすい職場環境整備: #REF!
Name 別紙３働きやすい職場環境整備: #REF!
Name 別紙３働きやすい職場環境整備: #REF!
Name 保育所職員配置の状況: #REF!
Name 保育所職員配置の状況: #REF!
Name 法__人__運__営__状__況: #REF!
Name 法__人__運__営__状__況: #REF!
Name 法__人__運__営__状__況: #REF!
Name 法__人__運__営__状__況: #REF!
Name 法__人__運__営__状__況: #REF!
Name 法__人__運__営__状__況: #REF!
Name 幼保連携型認定こども園職員配置の状況: #REF!
Name 幼保連携型認定こども園職員配置の状況: '別紙１職員配置(幼保連携型認定こども園)'!$A$2
Name 幼保連携型認定こども園職員配置の状況: #REF!
Name 幼保連携型認定こども園職員配置の状況: #REF!

Sheet 表紙 
B1: 令和８年度 社会福祉施設一般監査（書面）資料
B2: 自主点検表【公立保育所・幼保連携型認定こども園】
B4: 作成日
B5: 施設種別
B6: 市町村名
B7: 施設名
B8: 受託法人 ※公設民営の場合
B9: 記 入 者 職名・氏名
B10: 郵便番号
B11: 施設所在地
B13: 電話番号
B14: FAX
... B18: １ 自主点検表の対象
C19: この点検表は、公立保育所・幼保連携型認定こども園(公設民営の施設を含む)を対象としたものです。
B21: ２ 記載方法
C22: 点検結果及び記入欄において、必要事項を選択（プルダウン）または記入してください。
C23: コメントや特記事項等がある場合には、必要に応じてコメント等の欄に入力してください。
B24: ３ その他
C25: 書面監査の実施年においても自主的に実地監査用の自主点検表に基づく自主点検を行ってください。
C27: 施設種別によって、自主点検項目の内容が変わるものがありますので、本シートの施設種別等を入力の上、各シートへの回答を行ってください。

Sheet 運営管理
B2: 区分 | E2: 事項及び記入欄 | AB2: 結果欄
C3: 1 | E3: 職員の配置 | AB3: 回答 | AE3: コメント等
D4: ① | E4: 配置基準に基づく必要な職員が確保されているか。 | AB4: いる・いない
E5: ・別紙１「職員配置の状況（保育所用又は幼保連携型認定こども園用）（Excelファイル画面下部のシートを使用）」を記入してください。
E7: 添付資料：別紙１ 職員配置の状況
C8: 2 | E8: 施設長の専任・兼任 | AB8: 回答 | AE8: コメント等
D9: ① | E9: 施設長は専任か。 | AB9: 専任・兼任
F10: ・兼務の場合の業務内容 | N10: ( | Y10: )
C11: 3 | E11: 情報管理 | AB11: 回答 | AE11: コメント等
D12: ① | E12: 個人情報及び特定個人情報は、必要かつ適切かつ安全な管理措置を講じているか。 | AB12: いる・いない
D13: ② | E13: 保育士を任命し、又は雇用しようとするときは、保育士特定登録取消者管理システム等（データベース）を活用しているか。 | AB13: いる・いない
D15: ③ | E15: 児童の画像等をホームページやSNS等に掲載する場合は、性的な部位を含む画像等が掲載されないようにしているか。 | AB15: いる・いない・掲載なし
C17: 4 | E17: 消火・避難訓練等 | AB17: 回答 | AE17: コメント等
D18: ① | E18: 消火・避難訓練等が適切に実施されているか。 | AB18: いる・いない
E19: ◎令和７年度
F20: ・消火訓練 | M20: 回
G21: ⇒施設単独の消火訓練（初期消火訓練・消火器等の実際の放出訓練以外の訓練を含む。）及び消防署立会いによる訓練の合計回数を記入してください。 なお、消火器具の点検は消火訓練の実施に含みません。
F23: ・避難訓練 | M23: 回
F24: ・通報訓練 | M24: 回
F25: ※消火訓練及び避難訓練は、それぞれ少なくとも毎月１回実施することが義務付けられてい ます。 また、通報訓練の実施回数については、法令での定めはありませんが、年1回以上は実施するようにしてください。
E27: ◎訓練の実施記録は、訓練の内容及び訓練時の態様、反省点などを含め整備し、職員に周知することが大切です。
D29: ② | E29: 通路や出入口周辺、特に避難動線、避難口、消防設備等の周辺に障害物となるような物が置かれていないか。(置かれていない場合には「いない」と回答してください。) | AB29: いない・いる
C31: 5 | E31: 非常災害対策 | AB31: 回答 | AE31: コメント等
D32: ① | E32: 施設の立地条件等に応じて、水害、土砂災害、地震等を想定した非常災害に関する具体的な計画（非常災害対策計画）を策定しているか。 | AB32: いる・いない
D34: ② | E34: 市町村が定める地域防災計画に水防法又は土砂災害防止法における要配慮者利用施設として施設の名称と所在地が記載されているか。 | AB34: いる・いない
E36: ⇒「いる」と回答した場合、次に日付を記入してください。
F37: 避難確保計画作成日：
F38: 計画の市町村への報告日：
F39: 計画に基づく訓練の実施日：
C40: 6 | E40: 業務継続計画（BCP） | AB40: 回答 | AE40: コメント等
D41: ① | E41: 感染症や自然災害の発生時に業務を継続的に実施するため、及び非常時の体制で早期の業務の再開を図るため業務継続計画を策定しているか。 | AB41: いる・いない
F43: 業務継続計画策定日：
E44: （次の各項目について、内容が含まれている場合には〇、いない場合には×を選択・記載してください。）
K45: 自然災害等に係る業務継続計画
K46: 感染症災害に係る業務継続計画
D47: ② | E47: 職員に対し、業務継続計画を周知し、必要な研修を行うとともに、訓練を定期的に実施しているか。 | AB47: いる・いない
C49: 7 | E49: 防犯訓練等 | AB49: 回答 | AE49: コメント等
D50: ① | E50: 防犯に関する取り組みを実施しているか。 | AB50: いる・いない
E51: 次に訓練内容などを、別紙２に施設・防犯安全対策を記入してください。
F52: ・訓練内容 | I52: （ | Y52: ）
F53: ・機械警備の実施
F54: ・その他の防犯に関する取組
G55: ( | Y55: ）
E56: 添付資料：別紙２ 施設・防犯 安全確認点検項目
C57: 8 | E57: 利用者の安全確保 | AB57: 回答 | AE57: コメント等
D58: ① | E58: 利用者の安全確保に努めているか。 | AB58: いる・いない
E59: 添付資料：別紙２ 施設・防犯 安全確認点検項目
D60: ② | E60: 出欠・所在確認、所在不明時の対応マニュアル（書面）等を作成しているか。 | AB60: いる・いない
D61: ③ | E61: 出欠・所在確認を定時及び適時に行っているか。 | AB61: いる・いない
E62: ⇒具体的な確認・記録方法を次に記入してください。
F63: 例：午前８時、昼食、散歩時に出席簿、参加者名簿により確認
D66: ④ | E66: 通園・園外活動等のため自動車を運行する場合、乗降車の際に、点呼等の方法により園児の所在を確認しているか。(※運行がない場合には「非該当」を選択・記載してください。) | AB66: いる・いない・非該当
E68: ⇒具体的な確認・記録方法を記入してください。
F69: 例： 点呼を行い、乗車名簿によりチェックしている。
D72: ⑤ | E72: 送迎職員と施設職員の情報共有はできているか。 （※運行がない場合には「非該当」を選択・記載してください。） | AB72: いる・いない・非該当
D74: ⑥ | E74: 自動車にブザーその他の車内の児童等の見落としを防止する装置を装備しているか。 （※運行・送迎がない場合には「非該当」を選択・記載してください。） | AB74: いる・いない・非該当

Sheet 処遇
B2: 区分 | E2: 事項及び記入欄 | AB2: 結果欄
B3: 処 遇 | C3: 1 | E3: 入所定員・学級編成 | AB3: 回答 | AE3: コメント等
D4: ① | E4: 入所者が定員を超えているか。 | AB4: いる・いない
F5: ・直近月の定員などの状況 | U5: 現在
F6: ・定員(利用定員) | M6: 人
F7: ・現員 | M7: 人 | P7: ( | Q7: 定員に対する比率 | V7: =IFERROR(K7/K6,"") | X7: )
D8: ② | E8: 定員を超えて私的契約児を入所・入園（直近）させているか。 | AB8: いる・いない
F9: ⇒いる場合 | L9: 人
D10: ③ | E10: 【幼保連携型認定こども園のみ】 １学級原則３５人以下としていますか。 ※満3歳以上満4歳未満の園児にあっては20人以下(学級担当に専任主幹保育教諭、指導保育教諭又は保育教諭を2人以上置く場合は35人以下)、満4歳以上の園児にあっては35人以下となります。 | AB10: いる・いない・非該当
C13: 2 | E13: 開所時間等 | AB13: 回答 | AE13: コメント等
D14: ① | E14: 開所・閉所時間、保育時間、開設日数が適切に設けられているか。 | AB14: いる・いない
C15: 3 | E15: 保育・指導計画、保育内容の自己評価等 | AB15: 回答 | AE15: コメント等
D16: ① | E16: 全体的な計画及び指導計画（長期的・短期的・個別）が作成されているか。 | AB16: いる・いない
D17: ② | E17: 食育計画及び保健計画が作成されているか。 | AB17: いる・いない
D18: ③ | E18: 保育所・認定こども園は自ら業務の質の評価を行っているか。（園の自己評価を行っているか。） | AB18: いる・いない
E20: ※令和７年度(2025年4月～2026年3月)に開設された施設は、この監査資料と合わせて自己評価の結果をご提出ください。
D22: ④ | E22: 自己評価の結果を公表しているか。 | AB22: いる・いない
D23: ⑤ | E23: 【保育所】保育の記録や自己評価に基づいて、保育所児童保育要録が作成されているか。また、児童の就学に際し、小学校への送付が行われているか。 【幼保連携型認定こども園】指導要録（「学籍等に関する記録」及び「指導等に関する記録」）は適切に作成しているか。また、児童の就学に際し、小学校への送付が行われているか。 | AB23: いる・いない・非該当
D27: ⑥ | E27: 保護者との連絡を適切に行い、家庭との連携を図るように努めているか。 | AB27: いる・いない
C28: 4 | E28: 給食の提供 | AB28: 回答 | AE28: コメント等
D29: ① | E29: 必要な栄養所要量を確保しているか。 | AB29: いる・いない
D30: ② | E30: 残食（菜）調査、嗜好調査等が適切に行われており、その結果等を献立に反映するなど、工夫がなされているか。 | AB30: いる・いない
D32: ③ | E32: 検食は食事提供前に異味、異臭、異物の混入の有無を確認し、検食簿に記録しているか。 | AB32: いる・いない
D33: ④ | E33: 食事の時間は適切か。 | AB33: 適切・不適切
E34: ・おやつ・副食 | O34: 時頃
E35: ・昼食 | O35: 時頃
E36: ・おやつ・副食 | O36: 時頃
E37: ・夕食等 | O37: 時頃
D38: ⑤ | E38: 児童の食事に関する情報（咀嚼や嚥下機能を含む発達や喫食の状況、食行動の特徴など）や当日の子どもの健康状態を把握し、誤嚥等による窒息のリスクとなるものを除去しているか。 | AB38: いる・いない
D40: ⑥ | E40: 食物アレルギー疾患を持つ園児への対応は、医師の診断に基づいたアレルギー疾患生活管理指導表等を使用して適切に行っていますか。 | AB40: いる・いない
D42: ⑦ | E42: 検食の保存に当たっては、原材料及び調理済み食品を、-２０℃以下で２週間以上保存しているか。 | AB42: いる・いない
D44: ⑧ | E44: 給食関係者（調乳担当者を含む。）の検便を毎月実施しているか。 | AB44: いる・いない
D45: ⑨ | E45: 給食材料が適切に用意され、保管されているか。 | AB45: いる・いない
D46: ⑩ | E46: 給食日誌の記録が適正に行われているか。 | AB46: いる・いない
D47: ⑪ | E47: 食中毒対策が適切に行われているか。 | AB47: いる・いない
C48: 5 | E48: 児童の健康管理等 | AB48: 回答 | AE48: コメント等
D49: ① | E49: 利用者に対して、定期の健康診断を実施しているか。 | AB49: いる・いない
F50: ・定期健康診断の実施回数 | N50: 年 | Q50: 回
F51: ・歯科検診の実施回数 | N51: 年 | Q51: 回
D52: ② | E52: 健康診断の実施、結果の記録及び保管が適切に行われているか。 | AB52: いる・いない
D53: ③ | E53: 乳幼児突然死症候群の防止に努めるなど、事故防止対策を講じているか。 | AB53: いる・いない・非該当
D54: ④ | E54: 静養が必要な児童がいる場合に医務室（コーナー）が使用できる状態になっているか。 | AB54: いる・いない
D55: ⑤ | E55: 感染症の発生予防対策は、感染症対策マニュアルを整備するなど適切に対応しているか。 | AB55: いる・いない
C57: 6 | E57: 虐待・不適切保育防止研修等 | AB57: 回答 | AE57: コメント等
D58: ① | E58: 子どもの状態を観察し、虐待や不適切な養育等の発見に努めるとともに、必要に応じて関係機関との連携を図っているか。 | AB58: いる・いない
D60: ② | E60: 虐待・不適切保育防止（家庭内の早期発見、施設内の職員による虐待・不適切保育防止等）の研修等を職員に対して行っているか。 | AB60: いる・いない
E62: （次の各項目について、実施している場合には〇、いない場合には×を選択・記載してください。）
I63: 外部研修の実施（ZOOM等のリモート形式も含む）
I64: 園内研修の実施
I65: セルフチェックの実施
F66: ※埼玉県虐待禁止条例では、施設等擁護者が児童等を擁護すべき職務上の義務を著しく怠ること（第２条第１号ハ）を禁止するとともに、施設の設置者に児童に対する虐待の防止等に関する研修の実施と、職員に研修の参加を求めています（第19条第2，3項）。
D69: ③ | E69: 入園児（入所児）虐待を受けたと思われる児童を発見した場合、市町村長又は都道府県知事等に通報しているか。 | AB69: いる・いない
C71: 7 | E71: 事故防止の取組と事故発生時の対応 | AB71: 回答 | AE71: コメント等
D72: ① | E72: 安全計画を策定しているか。 | AB72: いる・いない
F73: ・保育所：保育所安全計画
F74: ・幼保連携型認定こども園：学校安全計画
D75: ② | E75: =IF('表紙 '!F5="幼保連携型認定こども園","危険等発生時対処要領(危機管理マニュアル)を作成しているか。","事故防止・発生時対応マニュアル・指針を整備しているか。") -> 事故防止・発生時対応マニュアル・指針を整備しているか。 | AB75: いる・いない
D76: ③ | E76: ヒヤリ・ハット事例の収集(記録)・分析を行っているか。 | AB76: いる・いない
E77: また、事故発生の事例や原因、対応策などの職員等への周知を行っているか。
D78: ④ | E78: 定期的な事故発生防止の委員会（職員会議の場の活用可）や事故防止の研修を行っているか。 | AB78: いる・いない
D80: ⑤ | E80: 事故が発生した場合は、速やかに市町村、当該園児の家族等に連絡を行うとともに、必要な措置を講じていますか。 | AB80: いる・いない
D82: ⑥ | E82: プール活動の際に「教育・保育施設等における事故防止及び事故発生時の対応のためのガイドライン」の注意すべきポイントにより確認しているか。 | AB82: いる・いない・非該当
F84: （次の各項目について、実施している場合には〇、いない場合には×を選択・記載してください。）
I85: 保育指導者と別に監視者を配置している。
I86: 事前に健康状態を確認している。
I87: 水深等を確認している。
I88: 残留塩素濃度を確認している。
I89: 保育指導者、監視者、残留塩素濃度等を記録に残している。
D90: ⑦ | E90: 熱中症事故を防止するために、暑さ指数等を用いて活動実施に関する判断をする、必要に応じて水分や塩分の補給ができる環境を整えるなど、必要な対策を講じているか。 | AB90: いる・いない

Sheet 別紙1（職員配置等の状況 保育所）
A1: 保育所職員配置等の状況 | AF1: 別紙 １
A2: 1 | B2: 職員の数は、県条例第192条、省令基準第33条等の基準に適合していますか。 | T2: ＜ | U2: いる・いる(経過措置)・いない | AA2: ＞
B4: 直接処遇職員配置状況 | H4: （ | N4: 現在（※１)） | T4: ※1 | U4: 監査資料提出の当月初日現在で記入してください （例：10月に資料提出をする場合は10月1日現在）。
B5: 児童の 年齢等 | D5: 児童数 | G5: 配置比率 | H5: 基準職員数 | K5: 配置職員数(人)（※２）
Q6: うち 看護師 | T6: ※2 | U6: 配置職員数には在籍する保育士資格のある者の人数を記入してください。なお、休業中（産前・産後休暇、病気休暇を含む。）の職員は除いてください。
K7: 常勤 (※3） | N7: 非常勤 (※3） | Q7: 常勤 | R7: 非常勤
T8: ※3 | U8: 「常勤」は、当該保育所等の就業規則において定められている常勤の従業者が勤務すべき時間数（１か月に勤務すべき時間数が 120 時間以上であるものに限る。）に達している者、又は、上記以外のものであって、1日6時間以上かつ月20日以上勤務する者を指します。また、「非常勤」は「常勤」に該当しない者を指します。
B9: 0 | G9: =IF(U2="いる(経過措置)",3,3) -> 3 | H9: =ROUNDDOWN(D9/G9,1) -> 0
B10: 1 | G10: =IF(U2="いる(経過措置)",6,6) -> 6 | H10: =ROUNDDOWN(D10/G10,1) -> 0
B11: 2 | G11: =IF(U2="いる(経過措置)",6,6) -> 6 | H11: =ROUNDDOWN(D11/G11,1) -> 0
B12: 3 | G12: =IF(U2="いる(経過措置)",20,15) -> 15 | H12: =ROUNDDOWN(D12/G12,1) -> 0 | T12: ※4 | U12: 障害児の欄は再計（内数）で児童数のみ記入ください。
B13: 4 | G13: =IF(U2="いる(経過措置)",30,25) -> 25 | H13: =ROUNDDOWN(D13/G13,1) -> 0
B14: 5 | G14: =IF(U2="いる(経過措置)",30,25) -> 25 | H14: =ROUNDDOWN(D14/G14,1) -> 0
B15: 障害児 (※４)
B16: フリー等
B17: 計 | H17: =ROUND((H9+H10+H11+H12+H13+H14+H16),0) -> 0 | K17: =SUM(K9+K10+K11+K12+K13+K14+K16) -> 0 | N17: =SUM(N9+N10+N11+N12+N13+N14+N16) -> 0 | Q17: =SUM(Q9:Q16) -> 0 | R17: =SUM(R9:R16) -> 0 | V17: 保育士等の配置
U18: 常勤者 | X18: =IF(K17=0,"自動計算",K17) -> 自動計算
B19: 【非常勤者の常勤換算の方法】 | Z19: 人
B20: ・就業規則で定める常勤者の１か月の勤務時間数： | L20: (A) | P20: 時間 | U20: 非常勤者 (常勤換算値) | X20: =G23 -> (自動計算)
B21: ・非常勤者の１か月の延べ勤務時間数： | L21: (B) | P21: 時間 | Z21: 人 | AB21: 基準職員数
C22: 非常勤者数（常勤換算値）（C） | U22: 合計 | X22: =IFERROR(ROUNDDOWN(X18+X20,1),"自動計算") -> 自動計算 | AA22: ≧ | AB22: =H17 -> 0
C23: （C）＝（B）／（A） | G23: =IFERROR(M21/M20,"(自動計算)") -> (自動計算) | J23: 人 | Z23: 人 | AD23: 人
A25: 2 | B25: 保育標準時間の朝や夕方において、児童の数に対応した保育士等が配置されていますか | V25: ＜ | W25: いる・いない | Z25: ＞
B26: （県条例第192条、省令基準第33条第2項ただし書き、第94条、令和6年1月26日付少子第1535号 埼玉県福祉部少子政策課長通知）
C27: 保育標準時間における保育開始時及び終了時の保育士等の配置状況を入力してください。
B28: 〇 | C28: 保育標準時間
G29: 平 日 | N29: 土 曜 日
C30: 保育標準時間 | H30: ： | J30: ～ | L30: ： | O30: ： | Q30: ～ | S30: ：
B32: 〇 | C32: 朝・夕の職員配置
K33: 保育開始時(朝) | Q33: 保育終了時（夕） | W33: ※5 | X33: ここで知事の認める者とは、「知事が保育士と同等の知識及び経験を有すると認める者」のことであり、次の①～③のいずれかに該当する者を指します。 ①保育所等で保育業務に従事した期間が十分にある者（常勤で１年相当程度） ②家庭的保育者 ③子育て支援員研修（地域保育コース（地域型保育））を修了した者
K34: 月～金曜日 | N34: 土曜日 | Q34: 月～金曜日 | T34: 土曜日
C35: 常勤保育士（人）
C36: 非常勤保育士（人）
C37: 看護師（人）
C38: 知事が認める者（人）(※5)
C39: その他
A41: 3 | B41: 各保育室は、児童1人当たりの必要面積を満たしていますか（県条例第190条） | T41: ＜ | U41: いる・いない | X41: ＞
B43: 年齢 | D43: 児童数 a | F43: 1人当たり必要面積 ｂ（㎡） | J43: 年齢別必要面積 C（㎡） | M43: 各保育室の実有効面積 ｄ（㎡） | P43: 差 ｄ－C（㎡） | S43: 備考
B44: 0 | F44: 3.3 | J44: =SUM(D44*F44) -> 0 | P44: =SUM(M44-J44) -> 0
B45: 1 | F45: 3.3 | J45: =SUM(D45*F45) -> 0 | P45: =SUM(M45-J45) -> 0
B46: 2 | F46: 1.98 | J46: =SUM(D46*F46) -> 0 | P46: =SUM(M46-J46) -> 0
B47: 3 | F47: 1.98 | J47: =SUM(D47*F47) -> 0 | P47: =SUM(M47-J47) -> 0
B48: 4 | F48: 1.98 | J48: =SUM(D48*F48) -> 0 | P48: =SUM(M48-J48) -> 0
B49: 5 | F49: 1.98 | J49: =SUM(D49*F49) -> 0 | P49: =SUM(M49-J49) -> 0
B50: 計 | D50: =SUM(D44:E49) -> 0 | J50: =SUM(J44:L49) -> 0 | P50: =SUM(P44:R49) -> 0
B51: ※異年齢児で合同保育を行っている場合は、年齢別の必要面積を満たしていることがわかるように備考等に記入してください。
D363: □ 感染が疑われる者、感染の可能性が高い者、感染 者発生時の対策

Sheet 別紙１職員配置(幼保連携型認定こども園)
A2: 幼保連携型認定こども園職員配置の状況
A4: （１） 職員の数は認定こども園法県条例第８条及び認定こども園法運営 基準第５条の基準に抵触していませんか。 | S4: ＜ | T4: いない・いる(経過措置)・いる | Z4: ＞
A7: 職員配置の状況① | G7: （ | M7: 現在（※１)）
A8: 区分 | E8: 職員数（現員・人）(※2) | K8: 備 考 (派遣職員がいる場合は、人数を記入） | U8: ※1 | V8: 監査資料提出の当月初日現在で記入してください（例：10月に資料提出をする場合は10月1日現在）。
E9: 常勤(※3) | G9: 非常勤 | I9: 兼務
A10: 施設長（園長）
A11: 副園長 | U11: ※2 | V11: 休業中（産前・産後休暇、病気休暇を含む。）の職員は除いてください。
A12: 教頭
A13: 主幹保育教諭 | U13: ※3 | V13: 「常勤」は、就業規則において定められている常勤の従業者が勤務すべき時間数（１か月に勤務すべき時間数が 120 時間以上であるものに限る。）に達している者、又は、上記以外のものであって、1日6時間以上かつ月20日以上勤務する者を指します。また、「非常勤」は「常勤」に該当しない者を指します。
A14: 指導保育教諭
A15: 保育教諭
A16: 助保育教諭
A17: 講師
A18: 調理員
A19: 主幹養護教諭
A20: 養護教諭 | U20: ※4 | V20: ここでいう「直接教育・保育に従事する職員」とは、副園長、教頭、主幹保育教諭、指導保育教諭、保育教諭、助保育教諭又は講師であって、園児の教育及び保育に直接従事する職員を指します。 (認定こども園法運営基準第5条第3項)
A21: 養護助教諭
A22: 事務職員
A23: その他 | K23: （内訳）
A25: 職員配置の状況②：直接教育・保育に従事する職員配置(※3)の状況
A26: 区分 | E26: 園児の数（人） | N26: 学級数 | P26: 認可基準に基づく 配置基準（人） | AA26: 直接教育・保育に 従事する職員(※2,4) の現員数（人）
E28: 園児の 年齢等 | H28: ２号・３号認定子ども | J28: １号認定子ども | L28: 計 （Ａ） | P28: 基準 （Ｂ） | R28: 配置基準数 （A÷B）
A31: 直接教育・保育に従事する職員 | E31: ０歳児 | L31: =$H$31 -> 0 | P31: =IF(T4="いる(経過措置)","3","3") -> 3 | R31: =ROUNDDOWN($L$31/$P$31,1) -> 0 | T31: 人 | U31: （小数点第２位以下切り捨て） | AA31: 常勤者数 (※3) | AE31: 人
E32: １歳児 | L32: =$H$32+$H$33 -> 0 | P32: =IF(T4="いる(経過措置)","6","6") -> 6 | R32: =ROUNDDOWN($L$32/$P$32,1) -> 0 | T32: 人 | U32: （小数点第２位以下切り捨て）
E33: ２歳児
E34: ３歳児 | L34: =$H$34+$J$34 -> 0 | P34: =IF(T4="いる(経過措置)","20","15") -> 15 | R34: =ROUNDDOWN($L$34/$P$34,1) -> 0 | T34: 人 | U34: （小数点第２位以下切り捨て） | AA34: 非常勤者数（常勤換算値）（Ｆ） | AC34: =IF(AND($M$42="",$M$41=""),"",$M$42/$M$41) | AE34: 人
E35: ４歳児 | L35: =($H$35+$J$35)+($H$36+$J$36) -> 0 | P35: =IF(T4="いる(経過措置)","30","25") -> 25 | R35: =ROUNDDOWN($L$35/$P$35,1) -> 0 | T35: 人 | U35: （小数点第２位以下切り捨て）
E36: ５歳児
A37: 計 | H37: =SUM(H31:I36) -> 0 | J37: =SUM(J34:K36) -> 0 | L37: =SUM(L34:M36) -> 0 | P37: （C） | R37: =ROUNDUP(R31+R32+R34+R35,0) -> 0 | T37: 人 | U37: （年齢区分を合計した後に小数点以下を切り上げ） | Z37: ≦ | AA37: 計 | AC37: =IF(SUM(AC31:AD36)=0,"",SUM(AC31:AD36)) | AE37: 人
A38: ※園長が専任でない場合は、原則として配置基準数（Ｃ）に１人増加する必要があります。
A40: 【非常勤者の直接教育・保育に従事する職員(※3)の常勤換算の方法】
A41: ・就業規則で定める常勤者の１か月の勤務時間数： | L41: （Ｄ） | P41: 時間 | R41: 非常勤者数（常勤換算値）（Ｆ）
A42: ・非常勤者の１か月の延べ勤務時間数： | L42: （Ｅ） | P42: 時間 | R42: （Ｆ）＝（Ｅ）／（Ｄ）＝ | W42: =IF(AND($M$42="",$M$41=""),"",$M$42/$M$41) | Y42: 人
A44: （３）朝や夕方の時間帯において、園児の数に対応する直接教育・保育に従事する職員(※3)が配置されていますか。 ＜認定こども園法県条例第8条、認定こども園法運営基準第5条第3項、認定こども園法運営基準附則、令和6年1月26日付少子第1535号 埼玉県福祉部少子政策課長通知＞
Y45: ＜ | Z45: いる・いない | AC45: ＞
C47: 保育標準時間における保育開始時及び終了時の保育士等の配置状況を入力してください。
B48: 〇 | C48: 保育標準時間
G49: 平 日 | N49: 土 曜 日
C50: 保育標準時間 | H50: ： | J50: ～ | L50: ： | O50: ： | Q50: ～ | S50: ：
B52: 〇 | C52: 朝・夕の職員配置
K53: 保育開始時(朝) | Q53: 保育終了時（夕） | W53: ※5 | X53: ここで知事の認める者とは、「知事が保育教諭と同等の知識及び経験を有すると認める者」のことであり、次の①～③のいずれかに該当する者を指します。 ①保育所等で保育業務に従事した期間が十分にある者（常勤で１年相当程度） ②家庭的保育者 ③子育て支援員研修（地域保育コース（地域型保育））を修了した者
K54: 月～金曜日 | N54: 土曜日 | Q54: 月～金曜日 | T54: 土曜日
C55: 常勤保育教諭等（人）
C56: 非常勤保育教諭等（人）
C57: 看護師（人）
C58: 知事が認める者（人）(※5)
C59: その他
A63: （４）各保育室等は、児童1人当たりの必要面積を満たしていますか（認定こども園法県条例第10条） | Z63: ＜ | AA63: いる・いない | AD63: ＞
B65: 年齢 | D65: 児童数 | F65: 1人当たり必要面積ｂ（㎡） | J65: 年齢別必要面積C（㎡） | M65: 各保育室の実有効面積ｄ（㎡） | R65: 差ｄ－C（㎡） | U65: 備考
B66: 0 | F66: 3.3 | J66: =SUM(D66*F66) -> 0 | R66: =SUM(M66-J66) -> 0
B67: 1 | F67: 3.3 | J67: =SUM(D67*F67) -> 0 | R67: =SUM(M67-J67) -> 0
B68: 2 | F68: 1.98 | J68: =SUM(D68*F68) -> 0 | R68: =SUM(M68-J68) -> 0
B69: 3 | F69: 1.98 | J69: =SUM(D69*F69) -> 0 | R69: =SUM(M69-J69) -> 0
B70: 4 | F70: 1.98 | J70: =SUM(D70*F70) -> 0 | R70: =SUM(M70-J70) -> 0
B71: 5 | F71: 1.98 | J71: =SUM(D71*F71) -> 0 | R71: =SUM(M71-J71) -> 0
B72: 計 | D72: =SUM(D66:E71) -> 0 | J72: =SUM(J66:L71) -> 0 | R72: =SUM(R66:T71) -> 0

Sheet 別紙２施設・防犯 安全確認点検
D1: 別紙 ２
B2: 施設・防犯 安全確認点検項目
B3: 点検表作成に合わせ施設内の点検をお願いします。
B4: 確認欄に良好な場合は○を、不良箇所がある場合は×を付けてください。
B5: 該当がない場合は／を引いてください。
B7: １ 施設
B8: 点 検 項 目 | D8: 確 認
B9: （１）ロッカー、家具、テレビ等の転倒防止がされているか。
B10: （２）画びょう、マグネット、クリップ等による事故防止対策はなされているか。
B11: （３）棚に置いた物の落下防止はされているか。 | G11: ○
B12: （４）窓、ベランダ、屋上、階段等からの転落防止はなされているか。 | G12: ×
B13: （５）カーテンは防炎になっているか。 | G13: ／
B14: （６）スプリンクラーヘッドの下方45cm、水平30cm以上の空間が確保されているか。
B15: （７）清潔物（リネン類、紙オムツ等）と非清潔物（清掃用具等）が明確に区分されているか。
B16: （８）トイレや手洗い場などにおいて、洗剤等が園児の手の届かない場所に置かれているか。
B17: （９）門扉、ブロック塀、遊具等の安全対策を講じているか。
B18: （10）その他、利用者に応じた施設の安全対策を講じているか。 （敷物の滑り止め､送迎駐車場内､タコ足配線など)
B20: ２ 防犯
B21: 点 検 項 目 | D21: 確 認
B22: （１）防犯体制を整備し職員全員に周知徹底しているか。
B23: （２）来訪者の受付窓口を設置し、受付簿の記入、来訪者証の交付等を行っているか。
B24: （３）門扉や玄関の鍵締め、防犯カメラの設置など不審侵入者の予防対策を講じているか。
B25: （４）門扉や玄関の施錠は電子施錠（暗証番号で施錠する方式）か。
B26: （５）暗証番号式の電子施錠の場合、定期的に暗証番号を変更しているか。
B27: （６）職員体制が手薄になりがちな時間帯やイベント開催時などの安全対策に留意しているか。
B28: （７）金銭、印鑑、通帳、貴重品等の盗難対策を講じているか。
B29: （８）送迎車・公用車など車両の盗難対策を講じているか。
B30: （９）防犯講習や防犯訓練を実施しているか。（警察の防犯講習会の活用、園内講習、訓練等）
B31: （10）その他、施設の状況に応じた防犯対策を講じているか。
D365: □ 感染が疑われる者、感染の可能性が高い者、感染 者発生時の対策

Sheet 反映シート
A1: 各シートの記載事項が反映されます。 このシートの削除やセル値の変更はしないでください。 | AN1: 処遇 | CN1: 別紙２
A2: 概要 | G2: 職員配置 | H2: 施設長の専任・兼任 | J2: 情報管理 | L2: 消火・避難訓練等 | Q2: 非常災害対策 | V2: 業務継続計画（BCP） | AA2: 防犯訓練等 | AF2: 利用者の安全確保に努めているか | AN2: 入所定員・学級編成 | AT2: 開所時間等 | AU2: 保育・指導計画、保育の自己評価等 | BA2: 給食の提供 | BP2: 児童の健康管理等 | BW2: 虐止・不適切養育（保育）防止 | CB2: 事故防止の取組と事故発生時の対応 | CN2: 施設・防犯 安全確認点検項目
A3: 施設種別 | B3: 市町村 | C3: 施設名 | D3: 受託法人名 (該当の場合) | E3: TEL | F3: E-mail 1 | I3: 兼務内容 | J3: 安全措置 | K3: HP・SNS画像等掲載 | L3: 消火・避難訓練等の実施 | P3: 動線等の障害物 | Q3: 非常災害対策計画の策定 | R3: 避難確保計画 | W3: 策定日 | X3: 自然災害想定 | Y3: 感染症想定 | Z3: 訓練・研修の実施 | AB3: 訓練内容 | AC3: 機械警備の実施 | AD3: その他の取り組み | AE3: 別紙３ 防犯訓練 | AF3: 利用者の安全確保に努めているか | AG3: 出欠所在不明時マニュアル | AH3: 出欠・所在確認 | AJ3: バス・自動車の運行時の点呼等 | AM3: 見落とし防止設備の導入 | AO3: 定員 | AP3: 現員 | AQ3: 比率 | AR3: 定員を超えた私的契約児の入園 | AS3: 【幼保のみ】1学級原則35人以下か | AU3: 全体的計画及び各指導計画 | AV3: 食育・保健計画 | AW3: 園の自己評価 | AX3: 自己評価の公表 | AY3: 要録の作成・送付 | AZ3: 保護者との連携 | BA3: 必要栄養量 | BB3: 残食・趣向調査等の活用 | BC3: 検食の実施・記録 | BD3: 食事の時間は適切か | BI3: 誤嚥等による窒息リスクの除去 | BJ3: アレルギー疾患生活管理指導表等による管理 | BK3: 検食の保存 | BL3: 調理調乳担当の検便 | BM3: 材料の適切な準備・取り扱い | BN3: 給食日誌 | BO3: 食中毒対策 | BP3: 定期の健康診断の実施 | BT3: SIDS対策 | BU3: 医務室等が利用可能か | BV3: 感染症対策を適切にしているか | BW3: 虐待等発見努力・関係機関との連携。 | BX3: 虐待防止研修等の実施 | CB3: 安全計画の策定 | CC3: 事故防止マニュアル等の整備 | CD3: ヒヤリハット事例の収集・分析 | CE3: 事項防止委員会等 | CF3: 事故報告 | CG3: プール活動の安全管理 | CM3: 熱中症対策等 | CN3: 施設 | DA3: 防犯
M4: 消火訓練回数 | N4: 避難訓練 回数 | O4: 通報訓練 回数 | S4: 作成日 | T4: 市町村への報告日 | U4: 直近の訓練日 | AI4: 具体的内容 | AK4: 具体的方法 | AL4: 施設職員・送迎職員との情報共有 | BE4: 食事時間 おやつ・間食１ | BF4: 食事時間 昼 | BG4: 食事時間 おやつ・間食２ | BH4: 食事時間夜 | BQ4: 定期健康診断回数 | BR4: 歯科検診回数 | BS4: 健診結果の保管・管理 | BY4: 外部研修 | BZ4: 園内研修 | CA4: セルフチェック | CH4: 指導者と監視者を別に配置 | CI4: 健康チェック | CJ4: 水深等の確認 | CK4: 残留塩素濃度確認 | CL4: 記録の整備 | CN4: 1転倒防止 | CO4: 2 画鋲等による事故防止 | CP4: 3落下防止 | CQ4: 4転落防止 | CR4: 5防炎 | CS4: 6スプリンクラー空間 | CT4: 7清潔物・非清潔物のゾーニング | CU4: 8洗剤等の管理 | CV4: 9遊具、門扉 | CW4: 10その他 | CX4: 1防犯体制整備・周知 | CY4: 2来訪者の受付等 | CZ4: 3玄関施錠、防犯カメラの設置など | DA4: 4手薄になりがちな場面での安全対策 | DB4: 5盗難対策 | DC4: 6車の盗難対策 | DD4: 7防犯訓練等の実施 | DE4: 8その他防犯対策
A5: ='表紙 '!F5 -> 0 | B5: ='表紙 '!F6 -> 0 | C5: ='表紙 '!F7 -> 0 | D5: ='表紙 '!F8 -> 0 | E5: ='表紙 '!F13 -> 0 | F5: ='表紙 '!F15 -> 0 | G5: =運営管理!AB4 -> いる・いない | H5: =運営管理!AB9 -> 専任・兼任 | I5: =運営管理!O10 -> 0 | J5: =運営管理!AB12 -> いる・いない | K5: =運営管理!AB15 -> いる・いない・掲載なし | L5: =運営管理!AB18 -> いる・いない | M5: =運営管理!K20 -> 0 | N5: =運営管理!K23 -> 0 | O5: =運営管理!K24 -> 0 | P5: =運営管理!AB29 -> いない・いる | Q5: =運営管理!AB32 -> いる・いない | R5: =運営管理!AB34 -> いる・いない | S5: =運営管理!O37 -> 0 | T5: =運営管理!O38 -> 0 | U5: =運営管理!O39 -> 0 | V5: =運営管理!AB41 -> いる・いない | W5: =運営管理!M43 -> 0 | X5: =運営管理!J45 -> 0 | Y5: =運営管理!J46 -> 0 | Z5: =運営管理!AB47 -> いる・いない | AA5: =運営管理!AB50 -> いる・いない | AB5: =運営管理!J52 -> 0 | AC5: =運営管理!L53 -> 0 | AD5: =運営管理!H55 -> 0 | AE5: ='別紙２施設・防犯 安全確認点検'!D30 -> 0 | AF5: =運営管理!AB58 -> いる・いない | AG5: =運営管理!AB60 -> いる・いない | AH5: =運営管理!AB61 -> いる・いない | AI5: =運営管理!F64 -> 0 | AJ5: =運営管理!AB66 -> いる・いない・非該当 | AK5: =運営管理!F70 -> 0 | AL5: =運営管理!AB72 -> いる・いない・非該当 | AM5: =運営管理!AB74 -> いる・いない・非該当 | AN5: =処遇!AB4 -> いる・いない | AO5: =処遇!K6 -> 0 | AP5: =処遇!K7 -> 0 | AQ5: =処遇!V7 | AR5: =処遇!AB8 -> いる・いない | AS5: =IF(A5="保育所","回答不要",処遇!AB10) -> いる・いない・非該当 | AT5: =処遇!AB14 -> いる・いない | AU5: =処遇!AB16 -> いる・いない | AV5: =処遇!AB17 -> いる・いない | AW5: =処遇!AB18 -> いる・いない | AX5: =処遇!AB22 -> いる・いない | AY5: =処遇!AB23 -> いる・いない・非該当 | AZ5: =処遇!AB27 -> いる・いない | BA5: =処遇!AB29 -> いる・いない | BB5: =処遇!AB30 -> いる・いない | BC5: =処遇!AB32 -> いる・いない | BD5: =処遇!AB33 -> 適切・不適切 | BE5: =処遇!K34 -> 0 | BF5: =処遇!K35 -> 0 | BG5: =処遇!K36 -> 0 | BH5: =処遇!K37 -> 0 | BI5: =処遇!AB38 -> いる・いない | BJ5: =処遇!AB40 -> いる・いない | BK5: =処遇!AB42 -> いる・いない | BL5: =処遇!AB44 -> いる・いない | BM5: =処遇!AB45 -> いる・いない | BN5: =処遇!AB46 -> いる・いない | BO5: =処遇!AB47 -> いる・いない | BP5: =処遇!AB49 -> いる・いない | BQ5: =処遇!O50 -> 0 | BR5: =処遇!O51 -> 0 | BS5: =処遇!AB52 -> いる・いない | BT5: =処遇!AB53 -> いる・いない・非該当 | BU5: =処遇!AB54 -> いる・いない | BV5: =処遇!AB55 -> いる・いない | BW5: =処遇!AB58 -> いる・いない | BX5: =処遇!AB60 -> いる・いない | BY5: =処遇!H63 -> 0 | BZ5: =処遇!H64 -> 0 | CA5: =処遇!H65 -> 0 | CB5: =処遇!AB72 -> いる・いない | CC5: =処遇!AB75 -> いる・いない | CD5: =処遇!AB76 -> いる・いない | CE5: =処遇!AB78 -> いる・いない | CF5: =処遇!AB80 -> いる・いない | CG5: =処遇!AB82 -> いる・いない・非該当 | CH5: =処遇!H85 -> 0 | CI5: =処遇!H86 -> 0 | CJ5: =処遇!H87 -> 0 | CK5: =処遇!H88 -> 0 | CL5: =処遇!H89 -> 0 | CM5: =処遇!AB90 -> いる・いない | CN5: ='別紙２施設・防犯 安全確認点検'!D9 -> 0 | CO5: ='別紙２施設・防犯 安全確認点検'!D10 -> 0 | CP5: ='別紙２施設・防犯 安全確認点検'!D11 -> 0 | CQ5: ='別紙２施設・防犯 安全確認点検'!D12 -> 0 | CR5: ='別紙２施設・防犯 安全確認点検'!D13 -> 0 | CS5: ='別紙２施設・防犯 安全確認点検'!D14 -> 0 | CT5: ='別紙２施設・防犯 安全確認点検'!D15 -> 0 | CU5: ='別紙２施設・防犯 安全確認点検'!D16 -> 0 | CV5: ='別紙２施設・防犯 安全確認点検'!D17 -> 0 | CW5: ='別紙２施設・防犯 安全確認点検'!D18 -> 0 | CX5: ='別紙２施設・防犯 安全確認点検'!D22 -> 0 | CY5: ='別紙２施設・防犯 安全確認点検'!D23 -> 0 | CZ5: ='別紙２施設・防犯 安全確認点検'!D24 -> 0 | DA5: ='別紙２施設・防犯 安全確認点検'!D27 -> 0 | DB5: ='別紙２施設・防犯 安全確認点検'!D28 -> 0 | DC5: ='別紙２施設・防犯 安全確認点検'!D29 -> 0 | DD5: ='別紙２施設・防犯 安全確認点検'!D30 -> 0 | DE5: ='別紙２施設・防犯 安全確認点検'!D31 -> 0
