Workbook

Sheet 書類一覧
B2: 別表第５ | AH2: 【代理業新規】
C5: 埼玉県旅行業者代理業新規登録申請書類一覧表
C7: 提出部数：各１部〔控１部は保存〕
C8: No. | E8: 書 類 名 | N8: 法人 | P8: 個人 | R8: 備 考
C9: 1 | E9: 新規登録申請書（１） | N9: ○ | P9: ○ | R9: 登録申請手数料として、埼玉県収入証紙１５，０００円を持参 申請者の住所は、『登記事項証明書（登記簿謄本）の「本店（所在地）」』又は『住民票の「住所」』とすること
C12: 2 | E12: 旅行業者登録簿（１） | N12: ○ | P12: ○ | R12: 新規登録申請書（１）と同じ内容を記載すること
C13: 3 | E13: 新規登録申請書（２） | N13: ○ | P13: ○ | R13: その他の営業所がある場合
C14: 4 | E14: 旅行業者登録簿（２） | N14: ○ | P14: ○ | R14: 新規登録申請書（２）と同じ内容を記載すること
C15: 5 | E15: 定款又は寄附行為 | N15: ○ | R15: 最新のものの「写」
R16: ｢目的｣は「旅行業者代理業」又は｢旅行業法に基づく旅行業者代理業」とすること
C18: 6 | E18: 登記事項証明書（登記簿謄本） 又は法人番号提供書 ※法人番号を提供する場合には、登記事項証明書を添付することを要しない。 | N18: ○ | R18: （登記事項証明書の場合） 申請日を含めて３か月以内に発行されたもの （法人番号を提供する場合） 法人番号提供書（参考様式）又はそれに準ずる書類であるか。
C19: 7 | E19: 役員に関する書類 | N19: ○ | R19: 全役員の宣誓書（自署すること。ゴム印・スタンプ印等は不可）
E20: 個人事業者に関する書類 | P20: ○ | R20: ① 住民票（申請日から３ヵ月以内に発行）
R21: ② 宣誓書（自署すること。ゴム印・スタンプ印等は不可）
E22: 役員等が旅行業法第６条に規定する登録拒否事項に該当しない旨を確認する書類
C23: 8 | E23: 旅行業務に係る事業の計画 | N23: ○ | P23: ○
C24: 9 | E24: 旅行業務に係る組織の概要 | N24: ○ | P24: ○ | R24: 旅行業務を取扱う部局及び関連部局の組織図
C25: 10 | E25: 旅行業務取扱管理者選任 一覧表 | N25: ○ | P25: ○ | R25: 以下を添付すること
R26: ① 合格証又は認定証の「写」、② 履歴書、③ 宣誓書
S27: ※ | T27: 個人事業者が取扱管理者である場合など、宣誓書が重複する場合は省略可能
R29: ④ 旅行業務取扱管理者定期研修修了証の「写」
S30: ※ | T30: ５年ごとに研修を受講させていることを証する書類
S31: ※ | T31: 直近５年以内に試験に合格した者は、提出不要
C32: 11 | E32: 営業所の使用権を証する書類 | N32: ○ | P32: ○ | R32: 営業所の建物登記事項証明書（登記簿謄本）又は賃貸借契約書の「写」
C34: 12 | E34: 旅行業者代理業業務委託契約書 | N34: ○ | P34: ○ | R34: 代理する旅行業者との契約書の「写」
C35: （一覧表説明）
C36: △：該当がある場合に提出が必要なもの
C37: （類似商号の照会）
C38: 既存業者との類似商号を避けるため、事前に管轄の観光課又は地域振興センターにお問い合わせください

Sheet 申請書（1）
D2: 第一号様式（第一条の二及び第四条の二関係）
M4: 新 規 登 録 申 請 書 （１）
S6: 収入印紙又は証紙貼付箇所
S9: （消印しないこと。）
D11: 埼 玉 県 知 事 登 録 | O11: 旅 行 業 者 代 理 業 | Z11: 第 | AD11: 号
D13: 業務の範囲 | L13: 第二種旅行業務
D14: （旅行業の場合）
D15: ふ り が な
D16: 氏 名
D17: （法人にあつては、
D18: その名称）
D19: ふ り が な
D20: 代 表 者 の 氏 名 （法 人 の 場 合）
D23: ふ り が な
D24: 住 所
D25: （法人にあつては、
D26: その所在地）
D27: ふ り が な
D28: 商 号
D30: ふ り が な | S30: ふ り が な
D31: 主 た る 営 業 所 の 名 称 | S31: 主 た る 営 業 所 の 所 在 地
D34: 代理する旅行業者（旅行業者代理業の場合）
D35: 氏名又は名称 | R35: 住所
AB38: 年 | AE38: 月 | AH38: 日
D39: 埼 玉 県 知 事 殿
E41: 旅行業法第三条の規定による新規登録の申請をします。
E42: この申請書及び添付書類の記載事項は、事実に相違ありません。
M45: 申請者の氏名又は名称
D48: 注 | F48: 登録番号の記載は更新登録の申請の場合に、収入印紙又は証紙の貼付は、手数料を納めなければならない登録の申請の場合に限る。
AI50: （日本産業規格 Ａ列４番）

Sheet 登録簿（1）
H3: 旅 行 業 者 代 理 業 者 登 録 簿 （１）
C4: 第三号様式（第二条関係）
C6: 登 録 行 政 庁 | K6: 埼 玉 県 知 事 | T6: 登 録 年月日
X8: =IF('申請書（1）'!Y38="","",'申請書（1）'!Y38) | AA8: 年 | AB8: =IF('申請書（1）'!AC38="","",'申請書（1）'!AC38) | AD8: 月 | AE8: =IF('申請書（1）'!AF38="","",'申請書（1）'!AF38) | AG8: 日
D13: 埼 玉 県 知 事 登 録 | O13: 旅 行 業 者 代 理 業 | Z13: 第 | AD13: 号
C15: 業務の範囲 | K15: =IF('申請書（1）'!L13="","",'申請書（1）'!L13) -> 第二種旅行業務
C16: （旅行業の場合）
C17: ふ り が な | K17: =IF('申請書（1）'!L15="","",'申請書（1）'!L15)
C18: 氏 名 | K18: =IF('申請書（1）'!L16="","",'申請書（1）'!L16)
C19: （法人にあつては、
C20: その名称）
C21: ふ り が な | K21: =IF('申請書（1）'!L19="","",'申請書（1）'!L19)
C22: 代 表 者 の 氏 名 （法 人 の 場 合） | K22: =IF('申請書（1）'!L20="","",'申請書（1）'!L20)
C25: ふ り が な | K25: =IF('申請書（1）'!L23="","",'申請書（1）'!L23)
C26: 住 所 | K26: =IF('申請書（1）'!L24="","",'申請書（1）'!L24)
C27: （法人にあつては、
C28: その所在地）
C29: ふ り が な | K29: =IF('申請書（1）'!L27="","",'申請書（1）'!L27)
C30: 商 号 | K30: =IF('申請書（1）'!L28="","",'申請書（1）'!L28)
C32: ふ り が な | K32: =IF('申請書（1）'!L30="","",'申請書（1）'!L30) | R32: ふ り が な | Z32: =IF('申請書（1）'!AA30="","",'申請書（1）'!AA30)
C33: 主 た る 営 業 所 の 名 称 | K33: =IF('申請書（1）'!L31="","",'申請書（1）'!L31) | R33: 主 た る 営 業 所 の 所 在 地 | Z33: =IF('申請書（1）'!AA31="","",'申請書（1）'!AA31)
C36: 代理する旅行業者（旅行業者代理業の場合）
C37: 氏名又は名称 | H37: =IF('申請書（1）'!I35="","",'申請書（1）'!I35) | Q37: 住所 | S37: =IF('申請書（1）'!T35="","",'申請書（1）'!T35)

Sheet 申請書（2）
E3: 新 規 登 録 申 請 書 （２）
E4: （その他の営業所）
C6: 第一号様式（第一条及び第四条の二関係）
C7: 営 業 所 の 名 称 | F7: 所 在 地

Sheet 登録簿（2）
D3: 旅 行 業 者 代 理 業 者 登 録 簿 （２）
E4: （その他の営業所）
C6: 第三号様式（第二条関係）
C7: 営 業 所 の 名 称 | F7: 所 在 地
C8: =IF('申請書（2）'!C8="","",'申請書（2）'!C8) | F8: =IF('申請書（2）'!F8="","",'申請書（2）'!F8)
C9: =IF('申請書（2）'!C9="","",'申請書（2）'!C9) | F9: =IF('申請書（2）'!F9="","",'申請書（2）'!F9)
C10: =IF('申請書（2）'!C10="","",'申請書（2）'!C10) | F10: =IF('申請書（2）'!F10="","",'申請書（2）'!F10)
C11: =IF('申請書（2）'!C11="","",'申請書（2）'!C11) | F11: =IF('申請書（2）'!F11="","",'申請書（2）'!F11)
C12: =IF('申請書（2）'!C12="","",'申請書（2）'!C12) | F12: =IF('申請書（2）'!F12="","",'申請書（2）'!F12)
C13: =IF('申請書（2）'!C13="","",'申請書（2）'!C13) | F13: =IF('申請書（2）'!F13="","",'申請書（2）'!F13)
C14: =IF('申請書（2）'!C14="","",'申請書（2）'!C14) | F14: =IF('申請書（2）'!F14="","",'申請書（2）'!F14)
C15: =IF('申請書（2）'!C15="","",'申請書（2）'!C15) | F15: =IF('申請書（2）'!F15="","",'申請書（2）'!F15)
C16: =IF('申請書（2）'!C16="","",'申請書（2）'!C16) | F16: =IF('申請書（2）'!F16="","",'申請書（2）'!F16)
C17: =IF('申請書（2）'!C17="","",'申請書（2）'!C17) | F17: =IF('申請書（2）'!F17="","",'申請書（2）'!F17)
C18: =IF('申請書（2）'!C18="","",'申請書（2）'!C18) | F18: =IF('申請書（2）'!F18="","",'申請書（2）'!F18)
C19: =IF('申請書（2）'!C19="","",'申請書（2）'!C19) | F19: =IF('申請書（2）'!F19="","",'申請書（2）'!F19)
... C28: =IF('申請書（2）'!C28="","",'申請書（2）'!C28) | F28: =IF('申請書（2）'!F28="","",'申請書（2）'!F28)

Sheet 宣誓書
D3: 第３号様式
B4: 宣 誓 書
J5: 年 | K5: 月 | L5: 日
D6: 埼 玉 県 知 事
H9: 氏 名 | I9: ：
H10: 住 所 | I10: ：
H11: 生年月日 | I11: ： | L11: 年 月 日生
C17: １．
C23: ２．
C26: ３．
C30: ４．
C32: ５．
C35: ６．
C40: ７．

Sheet 事業の計画
C2: 第１号様式（第２条第１項関係）
C4: 旅行業務に係る事業の計画（１）
C6: １． | D6: 氏名又は名称及び住所
D7: 氏名又は名称 | J7: ： | K7: =IF('申請書（1）'!L16="","",'申請書（1）'!L16)
D8: 住 所 | J8: ： | K8: 〒 | N8: -
K9: =IF('申請書（1）'!L24="","",'申請書（1）'!L24)
D11: 電話番号／ＦＡＸ番号 | L11: ： | W11: /
C13: ２． | D13: 会社（または事業）の沿革
C21: ３． | D21: 主たる株主（株式会社のみ）
C22: 株 主 名 | M22: 株 数 | Q22: 構成比 | U22: 会社との関係
C23: １． | P23: 株 | T23: ％
C24: ２． | P24: 株 | T24: ％
C25: ３． | P25: 株 | T25: ％
C26: ４． | P26: 株 | T26: ％
C27: ５． | P27: 株 | T27: ％
C28: ６． | P28: 株 | T28: ％
C29: ７． | P29: 株 | T29: ％
C30: 小 計 | P30: 株 | T30: ％
C31: 発行済株式総数 | P31: 株 | T31: ％
C33: 旅 行 業 務 に 係 る 事 業 の 計 画（２）
C35: ４． | D35: 兼業の有無
D36: ①
D37: ②
D38: ③
D39: ④
D40: ⑤
C42: ５． | D42: 従業員数等
D43: 常勤役員数 | L43: 人
E44: 内 旅行部門担当役員数 | P44: 人
F45: 内 旅行業務取扱管理者有資格者 | R45: 総合旅行業務 | AA45: 人
R46: 国内旅行業務 | AA46: 人
R47: 地域限定旅行業務 | AB47: 人
D48: 全従業員数（役員は除く） | P48: 人
E49: 内 旅行部門担当従業員 | P49: 人
F50: 内 旅行業務取扱管理者有資格者 | R50: 総合旅行業務 | Z50: 人
R51: 国内旅行業務 | Z51: 人
R52: 地域限定旅行業務 | AA52: 人
C54: ６． | D54: 旅行業務の概要
C62: 旅 行 業 務 に 係 る 事 業 の 計 画（３）
C64: ７． | D64: 取扱商品
C65: 区 分 | K65: 取扱の有無 | O65: 年間取引見込額（百万円） | W65: 目標収入額 | AA65: 備 考
K66: 海外 | M66: 国内 | O66: 海外 | S66: 国内 | W66: (千円)
C67: 自社募集型企画旅行 | H67: 自社販売 | AA67: 下記(1)参照
H68: 他社販売
C69: 受注型企画旅行 | AA69: 修学旅行取扱 有･無
C70: 手 配 旅 行
C71: 所属する代理業者の取扱 | AA71: 下記(2)参照
C72: （計）
C73: 他社募集型企画旅行 | AA73: 下記(3)参照
C74: 旅行素材卸販売等
C75: （合 計）
C77: （１）自社募集型企画旅行
C78: １）ブランド名（ブランド名がついている自社募集型企画旅行がある場合）
E79: 海外旅行：
E80: 国内旅行：
C81: ２）委託販売（法１４条の２関係）
D82: 第１種旅行業者 | M82: 社 | Q82: 営業所
D83: 第２種旅行業者 | M83: 社 | Q83: 営業所
D84: 第３種旅行業者 | M84: 社 | Q84: 営業所
D85: 地域限定旅行業者 | M85: 社 | Q85: 営業所
C86: ３）募集型企画旅行を実施する市町村
D87: （第３種旅行業者又は地域限定旅行業者である場合）
C90: （２）自社の旅行業務を取り扱わせる代理業者がある場合
H91: 社 | L91: 営業所
C93: （３）他社募集型企画旅行代売
D94: 第１種旅行業者 | M94: 社 | N94: ：
D95: 第２種旅行業者 | M95: 社 | N95: ：
D96: 第３種旅行業者 | M96: 社 | N96: ：
D97: 地域限定旅行業者 | M97: 社 | N97: ：
C99: 旅 行 業 務 に 係 る 事 業 の 計 画（４）
C101: ８． | D101: インバウンド業務の取扱の有無
D102: （及び有りの場合の全国通訳案内士又は地域通訳案内士の登録を受けた者の確保の有無）
C107: ９． | D107: 旅行券発行の有無（及び有りの場合はその内容）
C113: １０． | D113: 手配の確実性を証する契約先
C114: （１）国際・国内航空券の発券体制
C115: ① 国 際 航 空 券 | AA115: 摘 要
C116: （ア）ＩＡＴＡとの契約 | AB116: 該当する項 目すべてに 記載して下 さい。
C117: （イ）ＩＡＴＡ非加盟航空会社との契約
D118: 航空会社名 | H118: ：
C120: （ウ）提携業者名 | H120: ：
C122: ② 国 内 航 空 券
C123: （ア）航空会社との契約 | AB123: 該当する項 目すべてに 記載して下 さい。
D124: 航空会社名 | H124: ：
C126: （イ）提携業者名 | H126: ：
C129: （２）海外手配業者等との契約状況
C130: 提携業者名 | L130: 所 在 地 | X130: 手 配 地 域

Sheet 組織概要図
C2: 第２号様式（第２条第２項関係）
D3: 旅 行 業 務 に 係 る 組 織 の 概 要
C4: 組 織 の 概 要 図
C26: 注１ 全部門を指揮命令系統別に図示すること。
C27: ２ 各部局ごとに取り扱う旅行業務の概要及び従業員数等を記載すること。
C28: ３ 営業所ごとに選任した旅行業務取扱管理者の氏名と総合・国内・地域限定の種別を
C29: 明記すること。
C30: ４ 海外旅行も取り扱う営業所があるときは、その旨を明記すること。

Sheet 管理者選任一覧表
D2: 第４号様式（第２条第４項第１号イ関係）
Q4: 旅 行 業 務 取 扱 管 理 者 選 任 一 覧 表
C6: 営業所の名称 | I6: 選任取扱管理者氏名 | P6: 現住所 | Y6: 資格 | AF6: 合格番号又は認定番号 | AM6: 職名 | AQ6: 選任別
Y7: 総合 | AA7: 国内 | AC7: 地域限定 | AQ7: 新規 | AS7: 継続 | AU7: その他
C18: 上記のとおり、旅行業務取扱管理者を選任したので報告します。
Q19: =IF('申請書（1）'!Y38="","",'申請書（1）'!Y38) | T19: 年 | U19: =IF('申請書（1）'!AC38="","",'申請書（1）'!AC38) | W19: 月 | X19: =IF('申請書（1）'!AF38="","",'申請書（1）'!AF38) | Z19: 日
Q21: 登 録 番 号 | X21: 埼 玉 県 知 事 登 録 | AF21: 旅 行 業 者 代 理 業 | AP21: 第 - 号
Q22: 住 所 | X22: =IF('申請書（1）'!L24="","",'申請書（1）'!L24)
Q23: 商 号 又 は 名 称 | X23: =IF('申請書（1）'!L16="","",'申請書（1）'!L16)
Q24: 代 表 者 氏 名 | X24: =IF('申請書（1）'!L20="","",'申請書（1）'!L20)
Q25: （個人の場合は氏名）

Sheet 履歴書
L3: 履 歴 書
Z5: 年 | AC5: 月 | AF5: 日
C7: ふりがな
C8: 氏 名
C9: 生年月日 | L9: 年 | O9: 月 | R9: 日生
C10: 現 住 所 | H10: 〒 | K10: -
H13: 電 話 | P13: （ | U13: ）
H14: 携帯電話 | P14: （ | U14: ）
C15: 職 歴
G16: 年 | J16: 月
G17: 年 | J17: 月
G18: 年 | J18: 月
G19: 年 | J19: 月
G20: 年 | J20: 月
G21: 年 | J21: 月
G22: 年 | J22: 月
G23: 年 | J23: 月
G24: 年 | J24: 月
G25: 年 | J25: 月
G26: 年 | J26: 月
G27: 年 | J27: 月
... G30: 年 | J30: 月

Sheet 法人番号提供書
B4: 法人番号提供書
E7: 提供日 | J7: 年 月 日
E8: 法人の所在地
E9: 名称
E10: 代表者氏名
E17: － | J17: － | M17: －

Sheet 定期研修_誓約書
B4: 旅行業務取扱管理者 定期研修受講に係る誓約書
D6: （宛先） | J6: 年 | K6: 月 | L6: 日
D7: 埼 玉 県 知 事
G10: 住 所
G11: 商号又は名称
G13: 代表者氏名
G14: （個人の場合は氏名）
G16: 生年月日
L17: 年 月 日生

Sheet 主たる営業所が異なる_誓約書
B4: 本店と主たる営業所が異なる場合に関する誓約書
D6: （宛先） | J6: 年 | K6: 月 | L6: 日
D7: 埼 玉 県 知 事
G10: 住 所
G11: 商 号 又 は 名 称
G13: 代 表 者 氏 名

Sheet 定款等変更_誓約書
B4: 旅行業者代理業 定款等の変更に関する誓約書
D6: （宛先） | J6: 年 | K6: 月 | L6: 日
D7: 埼 玉 県 知 事
G10: 住 所
G11: 商 号 又 は 名 称
G13: 代 表 者 氏 名
