Workbook
Name HCU: #REF!
Name HCU: #REF!
Name HCU: #REF!
Name HCU管理料: #REF!
Name ICU: #REF!
Name ICU: #REF!
Name ICU: #REF!
Name ICU管理: #REF!
Name ICU管理: #REF!
Name ICU管理: #REF!
Name へき地医療拠点病院施設整備事業: '管理用（このシートは削除しないでください）'!$M$4:$M$5
Name へき地診療所施設整備事業: '管理用（このシートは削除しないでください）'!$H$4:$H$8
Name へき地保健指導所施設整備事業: '管理用（このシートは削除しないでください）'!$J$4:$J$6
Name 医師臨床研修病院研修医環境整備事業: '管理用（このシートは削除しないでください）'!$N$4
Name 院内感染対策施設整備事業: '管理用（このシートは削除しないでください）'!$V$4
Name 過疎地域等特定診療所施設整備事業: '管理用（このシートは削除しないでください）'!$I$4:$I$7
Name 該当なし: [1]!テーブル6[該当なし]
Name 研修医のための研修施設整備事業: '管理用（このシートは削除しないでください）'!$K$4
Name 産科医療機関施設整備事業: '管理用（このシートは削除しないでください）'!$P$4:$P$5
Name 死亡時画像診断システム施設整備事業: '管理用（このシートは削除しないでください）'!$R$4
Name 事業分類: [2]事業分類・区分!$B$2:$H$2
Name 種別選択: #REF!
Name 種別選択: #REF!
Name 種別選択: #REF!
Name 南海トラフ地震に係る津波避難対策緊急事業: '管理用（このシートは削除しないでください）'!$S$4:$S$5
Name 発熱外来: [1]!テーブル2[発熱外来]
Name 病床確保: [1]!テーブル1[病床確保]
Name 分娩取扱施設施設整備事業: '管理用（このシートは削除しないでください）'!$Q$4:$Q$5
Name 補助事業名: '[3]管理用（このシートは削除しないでください）'!$H$3:$V$3
Name 補助事業名: '[3]管理用（このシートは削除しないでください）'!$H$3:$V$3
Name 補助事業名: '管理用（このシートは削除しないでください）'!$H$3:$V$3
Name 有床診療所等スプリンクラー等施設整備事業: '[4]管理用（このシートは削除しないでください）'!#REF!
Name 有床診療所等スプリンクラー等施設整備事業: '管理用（このシートは削除しないでください）'!#REF!
Name 有床診療所等スプリンクラー等施設整備事業: '[3]管理用（このシートは削除しないでください）'!#REF!
Name 有床診療所等スプリンクラー等施設整備事業: '管理用（このシートは削除しないでください）'!#REF!
Name 有床診療所等スプリンクラー等施設整備事業: '[4]管理用（このシートは削除しないでください）'!#REF!
Name 有床診療所等スプリンクラー等施設整備事業: '[3]管理用（このシートは削除しないでください）'!#REF!
Name 有床診療所等スプリンクラー等施設整備事業: '管理用（このシートは削除しないでください）'!#REF!
Name 有床診療所等スプリンクラー等施設整備事業: '管理用（このシートは削除しないでください）'!#REF!
Name 有床診療所等スプリンクラー等施設整備事業: '管理用（このシートは削除しないでください）'!#REF!
Name 離島等患者宿泊施設施設整備事業: '管理用（このシートは削除しないでください）'!$O$4
Name 両方: [1]!テーブル5[両方]
Name 臨床研修病院施設整備事業: '管理用（このシートは削除しないでください）'!$L$4

Sheet 内示通知書
F3: 感対第 | H3: 号
F4: 令和 年 月 日
A6: =基本情報入力シート!C7&" 様" -> 様
A7: ="（医療機関名："&基本情報入力シート!C9&"）" -> （医療機関名：）
H9: 埼玉県保健医療部長 表 久仁和
H10: （公印省略）
A13: 埼玉県協定締結医療機関施設整備事業費補助金に係る
A14: 内示及び交付申請について（依頼）
A16: 本県の保健医療行政の推進につきましては、日頃格別の御協力を賜り厚くお礼申し
A17: 上げます。
A18: 標記補助金について、交付予定額を下記１のとおり内示します。
A19: つきましては、埼玉県協定締結医療機関施設整備事業補助金交付要綱第８条の規定に
A20: 基づき、下記２の書類を作成の上、下記アドレスにメールにてご提出くださるようお
A21: 願いいたします。
A23: 記
A25: １．内示額 | B25: 金 | D25: 円
A26: （内訳）（１）病室の感染対策に係る整備
B27: 金 | D27: 円
A29: （２）病棟等の感染対策に係る整備
B30: 金 | D30: 円
A32: （３）個人防護具保管施設の整備
B33: 金 | D33: 円
A35: ２．提出書類
A36: （１）交付申請書（様式第２号）
A37: （２）経費所要額計算書（別紙１）
A38: （３）事業計画書 （別紙２）
A39: （４）当該事業に係る歳入歳出予算書抄本
A40: （５）工事設計図等
A41: （６）工事仕訳書
A42: （７）その他参考となる資料
A44: ３．提出期限
A45: 令和○年○月○日（○）〆切厳守
A47: ４．担当及び提出先
A48: 埼玉県保健医療部 感染症対策課 総務・補助金担当
... A50: メール：a7500-22@pref.saitama.lg.jp

Sheet 基本情報入力シート
B1: 埼玉県協定締結医療機関設備整備事業費補助金
B3: 提出日
B4: 今回提出区分
B5: 郵便番号
B6: 所在地
B7: 開設者
B8: 代表者 職・氏名
B9: 医療機関名
B10: 医療機関コード
B11: 申請事務担当 所属・氏名
B12: 電話番号
B13: メールアドレス
B14: ※交付申請時のみ入力 補助金の交付方法
A16: R8基準額
A17: 簡易陰圧装置 | B17: 4320000
A18: 検査機器 | B18: 9350000
A19: 簡易ベッド | B19: 51400
A20: 空気清浄機 | B20: 905000

Sheet 【申請】交付申請書
A1: 様式第２号（第７条関係）
A4: 埼玉県協定締結医療機関設備整備事業費補助金交付申請書
F7: 第 | H7: 号
F8: =IF(基本情報入力シート!$C$3="","令和 年 月 日",IF(基本情報入力シート!$C$4="交付申請",基本情報入力シート!$C$3,"令和 年 月 日")) -> 令和 年 月 日
A11: （宛先）
A12: 埼玉県知事 大野 元裕
E15: （報告者）
E16: 所在地 | F16: =IF(基本情報入力シート!C6="","",基本情報入力シート!C6)
E18: 開設者 | F18: =IF(基本情報入力シート!C7="","",基本情報入力シート!C7)
E19: 代表者職氏名 | F19: =IF(基本情報入力シート!C8="","",基本情報入力シート!C8)
E20: 医療機関名 | F20: =IF(基本情報入力シート!C9="","",基本情報入力シート!C9)
A23: 標記について、次により埼玉県協定締結医療機関設備整備事業費補助金の交付を受けたい
A24: ので、補助金等の交付手続等に関する規則第４条の規定により関係書類を添えて申請します。
A26: 記
A28: １ 申請金額 | C28: 金 | D28: =IF(基本情報入力シート!C4="交付申請",【申請】所要額調書!O12,"") | E28: 円
A29: ２ 経費所要額調書 （別紙１）
A30: ３ 事業計画書 （別紙２）
A31: ４ 添付書類
A32: （１）見積書
A33: （２）配置図
A34: （３）カタログ
A35: （４）その他参考となる資料

Sheet 【変更申請】変更申請書
A1: 様式第３号（第９条関係）
A4: 埼玉県協定締結医療機関設備整備事業費補助金変更交付申請書
F7: 第 | H7: 号
F8: =IF(基本情報入力シート!$C$3="","令和 年 月 日",IF(基本情報入力シート!$C$4="変更交付申請",基本情報入力シート!$C$3,"令和 年 月 日")) -> 令和 年 月 日
A11: （宛先）
A12: 埼玉県知事 大野 元裕
E15: （報告者）
E16: 所在地 | F16: =IF(基本情報入力シート!C6="","",基本情報入力シート!C6)
E18: 開設者 | F18: =IF(基本情報入力シート!C7="","",基本情報入力シート!C7)
E19: 代表者職氏名 | F19: =IF(基本情報入力シート!C8="","",基本情報入力シート!C8)
E20: 医療機関名 | F20: =IF(基本情報入力シート!C9="","",基本情報入力シート!C9)
A23: 令和 年 月 日付感対第 号で補助金の交付決定の通知を受けた埼玉県協定締結医療
A24: 機関設備整備事業費補助金について、下記のとおり変更したいので、補助金等の交付手続等に
A25: 関する規則第４条の規定により関係書類を添えて申請します。
A27: 記
A29: １ 申請金額 | C29: 金 | D29: =IF(基本情報入力シート!C4="変更交付申請",【申請】所要額調書!O12,"") | E29: 円
A30: （既交付決定金額 | C30: 金 | E30: 円）
A31: ２ 経費所要額調書 （別紙１）
A32: ３ 事業計画書 （別紙２）
A33: ４ 添付書類
A34: （１）見積書
A35: （２）配置図
A36: （３）カタログ
A37: （４）その他参考となる資料

Sheet 【申請】予算書
A2: 埼玉県協定締結医療機関設備整備事業費 予算書抄本
D4: =IF(基本情報入力シート!$C$9="","","医療機関名："&基本情報入力シート!$C$9)
B5: １ 収入
E6: 単位：円
B7: 科目 | D7: 予算額 | E7: 摘要
B8: 県補助金 | D8: =IF(基本情報入力シート!C4="交付申請",【申請】所要額調書!O12,IF(基本情報入力シート!C4="変更交付申請",【申請】所要額調書!O12,""))
B9: 事業収入
B10: その他収入
B11: 合計 | D11: =SUM(D8:D10) -> 0
B13: ２ 支出
B15: 科目 | D15: 予算額 | E15: 摘要
B16: 簡易陰圧装置
B17: 簡易ベッド
B18: 検査機器
B19: HEPAフィルター付き空気清浄機
B21: 合計 | D21: =SUM(D16:D20) -> 0
D22: =IF(D11=D21," ","↑「１ 収入」と「２ 支出」が一致していません")

Sheet 【申請】所要額調書
B1: (別紙１）
B3: 協定締結医療機関設備整備事業費補助金 経費所要額調書 | S3: =IF(基本情報入力シート!C9="","","医療機関名："&基本情報入力シート!C9)
F4: Ａ | G4: Ｂ | H4: Ｃ＝Ａ－Ｂ | I4: Ｄ | L4: Ｅ | M4: Ｆ | N4: Ｇ | O4: Ｈ | P4: Ｉ | Q4: Ｊ＝Ｈ－Ｉ | R4: Ｋ | S4: Ｌ | T4: Ｍ | U4: Ｎ＝L－Ｍ
B5: 事業区分 | C5: 種目 | D5: 医療機関名 | E5: 開 設 者 | F5: 総事業費 | G5: 寄付金その他の収入額 | H5: 差引事業費 | I5: 補助対象経費の支出予定額 | J5: 基 準 額 | M5: 選 定 額 | N5: 内示額 | O5: 県補助 基本額 | P5: 仕入に係る 消費税等相当額 | Q5: 交付申請額 | R5: 国庫補助 基本額 | S5: 国庫補助 所要額 | T5: 仕入に係る 消費税等相当額（国庫分） | U5: 要国庫 補助額 | V5: 県補助率 | W5: 補助率
I6: 金額 | J6: 基準単価 | K6: 個数 | L6: 総額
F7: 円 | G7: 円 | H7: 円 | I7: 円 | J7: 円 | L7: 円 | M7: 円 | N7: 円 | O7: 円 | P7: 円 | Q7: 円 | R7: 円 | S7: 円 | T7: 円 | U7: 円
B8: 新興感染症対応力強化事業 （協定締結医療機関設備整備事業） | C8: 簡易陰圧装置 | D8: =IF(基本情報入力シート!$C$9="","",基本情報入力シート!$C$9) | E8: =IF(基本情報入力シート!$C$7="","",基本情報入力シート!$C$7) | F8: =IF(【申請】事業計画書!I12=0,"",【申請】事業計画書!I12) | H8: =IFERROR(F8-G8,"") | I8: =IF(F8="","",【申請】事業計画書!I12) | J8: =基本情報入力シート!B17 -> 4320000 | K8: =IF(F8="","",【申請】事業計画書!G12) | L8: =IF(F8="","",J8*K8) | M8: =IF(F8="","",【申請】事業計画書!J12) | O8: =IF(F8="","",MIN(H8,M8,N8)) | P8: =IF(F8="","",$P$12*(O8/$O$12)) | Q8: =IF(F8="","",O8-P8) | R8: =O8 | S8: =IF(F8="","",ROUNDDOWN(R8*W8,-3)) | T8: =IF(F8="","",$T$12*(S8/$S$12)) | U8: =IF(F8="","",S8-T8) | V8: 10/10 | W8: 1/2
B9: 新興感染症対応力強化事業 （協定締結医療機関設備整備事業） | C9: 検査機器 | D9: =IF(基本情報入力シート!$C$9="","",基本情報入力シート!$C$9) | E9: =IF(基本情報入力シート!$C$7="","",基本情報入力シート!$C$7) | F9: =IF(【申請】事業計画書!I24=0,"",【申請】事業計画書!I24) | H9: =IFERROR(F9-G9,"") | I9: =IF(F9="","",【申請】事業計画書!I24) | J9: =基本情報入力シート!B18 -> 9350000 | K9: =IF(F9="","",【申請】事業計画書!F24) | L9: =IF(F9="","",J9*K9) | M9: =IF(F9="","",【申請】事業計画書!J24) | O9: =IF(F9="","",MIN(H9,M9,N9)) | P9: =IF(F9="","",$P$12*(O9/$O$12)) | Q9: =IF(F9="","",O9-P9) | R9: =O9 | S9: =IF(F9="","",ROUNDDOWN(R9*W9,-3)) | T9: =IF(F9="","",$T$12*(S9/$S$12)) | U9: =IF(F9="","",S9-T9) | V9: 10/10 | W9: 1/2
B10: 新興感染症対応力強化事業 （協定締結医療機関設備整備事業） | C10: 簡易ベッド | D10: =IF(基本情報入力シート!$C$9="","",基本情報入力シート!$C$9) | E10: =IF(基本情報入力シート!$C$7="","",基本情報入力シート!$C$7) | F10: =IF(【申請】事業計画書!I29=0,"",【申請】事業計画書!I29) | H10: =IFERROR(F10-G10,"") | I10: =IF(F10="","",【申請】事業計画書!I29) | J10: =基本情報入力シート!B19 -> 51400 | K10: =IF(F10="","",【申請】事業計画書!F29) | L10: =IF(F10="","",J10*K10) | M10: =IF(F10="","",【申請】事業計画書!J29) | O10: =IF(F10="","",MIN(H10,M10,N10)) | P10: =IF(F10="","",$P$12*(O10/$O$12)) | Q10: =IF(F10="","",O10-P10) | R10: =O10 | S10: =IF(F10="","",ROUNDDOWN(R10*W10,-3)) | T10: =IF(F10="","",$T$12*(S10/$S$12)) | U10: =IF(F10="","",S10-T10) | V10: 10/10 | W10: 1/2
B11: 新興感染症対応力強化事業 （協定締結医療機関設備整備事業） | C11: HEPAフィルター 付き空気清浄機 | D11: =IF(基本情報入力シート!$C$9="","",基本情報入力シート!$C$9) | E11: =IF(基本情報入力シート!$C$7="","",基本情報入力シート!$C$7) | F11: =IF(【申請】事業計画書!I34=0,"",【申請】事業計画書!I34) | H11: =IFERROR(F11-G11,"") | I11: =IF(F11="","",【申請】事業計画書!I34) | J11: =基本情報入力シート!B20 -> 905000 | K11: - | L11: =IF(F11="","",J11) | M11: =IF(F11="","",【申請】事業計画書!J34) | O11: =IF(F11="","",MIN(H11,M11,N11)) | P11: =IF(F11="","",$P$12*(O11/$O$12)) | Q11: =IF(F11="","",O11-P11) | R11: =O11 | S11: =IF(F11="","",ROUNDDOWN(R11*W11,-3)) | T11: =IF(F11="","",$T$12*(S11/$S$12)) | U11: =IF(F11="","",S11-T11) | V11: 10/10 | W11: 1/2
B12: 合計 | F12: =SUM(F8:F11) -> 0 | G12: =SUM(G8:G11) -> 0 | H12: =SUM(H8:H11) -> 0 | I12: =SUM(I8:I11) -> 0 | L12: =SUM(L8:L11) -> 0 | M12: =SUM(M8:M11) -> 0 | N12: =SUM(N8:N11) -> 0 | O12: =SUM(O8:O11) -> 0 | Q12: =SUM(Q8:Q11) -> 0 | R12: =SUM(R8:R11) -> 0 | S12: =SUM(S8:S11) -> 0 | T12: =ROUNDDOWN(P12/2,0) -> 0 | U12: =SUM(U8:U11) -> 0
B14: Ⅰ．(F)は、(D)と(E)とを比較して少ない方の額。（ただし品ごと）
B15: Ⅱ．(H)は、(G)の範囲内で(C)と(F)とを比較して少ない方の額に補助率を乗じた額。ただし、算出された額に1,000円未満の端数が生じた場合にはこれを切捨てる。
B16: Ⅲ．(J)は、(H)から(I)を差し引いた額。

Sheet 12-1 スプリンクラー（総括表）見直し前
A1: 様 式 １ | S1: （注） １．「選定額」欄は、(D)と(E)とを比較して少ない方の額を記入すること。 ２．「国庫補助基本額」欄は、（C）と（F）と（G）とを比較してもっとも少ない方の額を記入すること。 ３．「国庫補助所要額」欄は、（H）欄に記載された額を記入。ただし、算出された額に1,000円未満の端数が生じた場合にはこれを切り捨てるものとする。
B2: 平成２９年度 医療施設等 施設 整備費補助金 事業計画総括表（スプリンクラー等整備）
B3: 都道府県番号 | C3: 都道府県内施設通番 | D3: 補助事業者名 （都道府県名） | E3: 間接補助事業者名 （施設名） | F3: 住所 | G3: 開設者 | H3: 棟名 | I3: 施設種別 | J3: 補助区分 | K3: 整備するスプリンクラー等の種別 | L3: Ａ | M3: Ｂ | N3: Ａ－Ｂ＝Ｃ | O3: Ｄ | R3: Ｅ | S3: Ｆ | T3: Ｇ | U3: Ｈ | V3: Ｉ | W3: 病床数（助産所にあっては入所施設のベッド数） | X3: 施設全体の病床数 | Y3: 収容人員 | Z3: 延べ床面積 | AA3: 主な診療科 | AB3: 一日平均入院患者数 （直近の報告数） | AC3: 夜間の職員実配置人数 | AD3: 棟の建築構造 | AE3: 内装の仕上げ | AF3: 消火訓練及び避難訓練の実施回数 | AG3: 避難誘導灯及び避難誘導標識の有無 | AH3: 消火器の有無 | AI3: 自動火災報知設備の設置の有無
L4: 総事業費 | M4: 寄付金 その他の収入額 | N4: 差引事業費 | O4: 対象経費の 支出予定額 | P4: 基 準 額 | S4: 選 定 額 | T4: 都道府県 補助額 | U4: 国庫補助 基本額 | V4: 国庫補助 所要額
P5: 整備面積 | Q5: 単価 | R5: 金額
I6: 1：有床診療所 2：病院 3：有床歯科診療所 4：助産所 | J6: 1：スプリンクラー 2：自動火災報知設備 3：火災通報装置 4.火災通報装置（非常通報機能有） | K6: 1：通常型スプリンクラー 2：水道連結型スプリンクラー 3：パッケージ型自動消火設備 -：スプリンクラーではない | L6: 円 | M6: 円 | N6: 円 | O6: 円 | P6: ㎡ | Q6: 円 | R6: 円 | S6: 円 | T6: 円 | U6: 円 | V6: 円 | W6: 床 | X6: 床 | Y6: 人 | Z6: ㎡ | AA6: ○○科 | AB6: 人／日 | AC6: 人 | AD6: 1：耐火構造 2：準耐火構造 3：非耐火構造 | AE6: 1:不燃 2：準不燃 3：難燃 4：その他 | AF6: 回／年 | AG6: 1：有 2：無 | AH6: 1：有 2：無 | AI6: 1：有 2：無
B7: 1 | C7: 1 | D7: ○○県 | E7: ○○診療所 | F7: ○○県○○市 | G7: △△ | H7: Ａ | I7: 1 | J7: 1 | K7: 2 | Q7: =IF(J7=1,17500,"-") -> 17500 | R7: =IF(J7=1,P7*Q7,IF(J7=2,1030000,IF(J7=3,310000,IF(J7=4,378000,"")))) -> 0 | S7: =MIN(O7,R7) -> 0 | U7: =MIN(N7,S7,T7) -> 0 | V7: =ROUNDDOWN(U7,-3) -> 0
B8: 1 | C8: 1 | D8: ○○県 | E8: ○○診療所 | G8: △△ | H8: - | I8: 1 | J8: 2 | K8: - | Q8: =IF(J8=1,17500,"-") -> - | R8: =IF(J8=1,P8*Q8,IF(J8=2,1030000,IF(J8=3,310000,IF(J8=4,378000,"")))) -> 1030000 | S8: =MIN(O8,R8) -> 1030000 | U8: =MIN(N8,S8,T8) -> 1030000 | V8: =ROUNDDOWN(U8,-3) -> 1030000
B9: 1 | C9: 1 | D9: ○○県 | E9: ○○診療所 | G9: △△ | H9: - | I9: 1 | J9: 3 | K9: - | Q9: =IF(J9=1,17500,"-") -> - | R9: =IF(J9=1,P9*Q9,IF(J9=2,1030000,IF(J9=3,310000,IF(J9=4,378000,"")))) -> 310000 | S9: =MIN(O9,R9) -> 310000 | U9: =MIN(N9,S9,T9) -> 310000 | V9: =ROUNDDOWN(U9,-3) -> 310000
B10: 1 | C10: 2 | D10: ○○県 | E10: ●●病院 | G10: ▲▲ | H10: Ａ | I10: 2 | J10: 1 | K10: 1 | Q10: =IF(J10=1,17500,"-") -> 17500 | R10: =IF(J10=1,P10*Q10,IF(J10=2,1030000,IF(J10=3,310000,IF(J10=4,378000,"")))) -> 0 | S10: =MIN(O10,R10) -> 0 | U10: =MIN(N10,S10,T10) -> 0 | V10: =ROUNDDOWN(U10,-3) -> 0
B11: 1 | C11: 2 | D11: ○○県 | E11: ●●病院 | G11: ▲▲ | H11: Ｂ | I11: 2 | J11: 1 | K11: 1 | Q11: =IF(J11=1,17500,"-") -> 17500 | R11: =IF(J11=1,P11*Q11,IF(J11=2,1030000,IF(J11=3,310000,IF(J11=4,378000,"")))) -> 0 | S11: =MIN(O11,R11) -> 0 | U11: =MIN(N11,S11,T11) -> 0 | V11: =ROUNDDOWN(U11,-3) -> 0
B12: 1 | C12: 2 | D12: ○○県 | E12: ●●病院 | G12: ▲▲ | H12: Ｃ | I12: 2 | J12: 1 | K12: 2 | Q12: =IF(J12=1,17500,"-") -> 17500 | R12: =IF(J12=1,P12*Q12,IF(J12=2,1030000,IF(J12=3,310000,IF(J12=4,378000,"")))) -> 0 | S12: =MIN(O12,R12) -> 0 | U12: =MIN(N12,S12,T12) -> 0 | V12: =ROUNDDOWN(U12,-3) -> 0
B13: 1 | C13: 2 | D13: ○○県 | E13: ●●病院 | G13: ▲▲ | H13: Ｄ | I13: 2 | J13: 1 | K13: 3 | Q13: =IF(J13=1,17500,"-") -> 17500 | R13: =IF(J13=1,P13*Q13,IF(J13=2,1030000,IF(J13=3,310000,IF(J13=4,378000,"")))) -> 0 | S13: =MIN(O13,R13) -> 0 | U13: =MIN(N13,S13,T13) -> 0 | V13: =ROUNDDOWN(U13,-3) -> 0
B14: 1 | C14: 2 | D14: ○○県 | E14: ●●病院 | G14: ▲▲ | H14: - | I14: 2 | J14: 2 | K14: - | Q14: =IF(J14=1,17500,"-") -> - | R14: =IF(J14=1,P14*Q14,IF(J14=2,1030000,IF(J14=3,310000,IF(J14=4,378000,"")))) -> 1030000 | S14: =MIN(O14,R14) -> 1030000 | U14: =MIN(N14,S14,T14) -> 1030000 | V14: =ROUNDDOWN(U14,-3) -> 1030000
B15: 1 | C15: 2 | D15: ○○県 | E15: ●●病院 | G15: ▲▲ | H15: - | I15: 2 | J15: 4 | K15: - | Q15: =IF(J15=1,17500,"-") -> - | R15: =IF(J15=1,P15*Q15,IF(J15=2,1030000,IF(J15=3,310000,IF(J15=4,378000,"")))) -> 378000 | S15: =MIN(O15,R15) -> 378000 | U15: =MIN(N15,S15,T15) -> 378000 | V15: =ROUNDDOWN(U15,-3) -> 378000
Q16: =IF(J16=1,17500,"-") -> - | R16: =IF(J16=1,P16*Q16,IF(J16=2,1030000,IF(J16=3,310000,IF(J16=4,378000,"")))) | S16: =MIN(O16,R16) -> 0 | U16: =MIN(N16,S16,T16) -> 0 | V16: =ROUNDDOWN(U16,-3) -> 0
Q17: =IF(J17=1,17500,"-") -> - | R17: =IF(J17=1,P17*Q17,IF(J17=2,1030000,IF(J17=3,310000,IF(J17=4,378000,"")))) | S17: =MIN(O17,R17) -> 0 | U17: =MIN(N17,S17,T17) -> 0 | V17: =ROUNDDOWN(U17,-3) -> 0
Q18: =IF(J18=1,17500,"-") -> - | R18: =IF(J18=1,P18*Q18,IF(J18=2,1030000,IF(J18=3,310000,IF(J18=4,378000,"")))) | S18: =MIN(O18,R18) -> 0 | U18: =MIN(N18,S18,T18) -> 0 | V18: =ROUNDDOWN(U18,-3) -> 0
Q19: =IF(J19=1,17500,"-") -> - | R19: =IF(J19=1,P19*Q19,IF(J19=2,1030000,IF(J19=3,310000,IF(J19=4,378000,"")))) | S19: =MIN(O19,R19) -> 0 | U19: =MIN(N19,S19,T19) -> 0 | V19: =ROUNDDOWN(U19,-3) -> 0
Q20: =IF(J20=1,17500,"-") -> - | R20: =IF(J20=1,P20*Q20,IF(J20=2,1030000,IF(J20=3,310000,IF(J20=4,378000,"")))) | S20: =MIN(O20,R20) -> 0 | U20: =MIN(N20,S20,T20) -> 0 | V20: =ROUNDDOWN(U20,-3) -> 0
Q21: =IF(J21=1,17500,"-") -> - | R21: =IF(J21=1,P21*Q21,IF(J21=2,1030000,IF(J21=3,310000,IF(J21=4,378000,"")))) | S21: =MIN(O21,R21) -> 0 | U21: =MIN(N21,S21,T21) -> 0 | V21: =ROUNDDOWN(U21,-3) -> 0
Q22: =IF(J22=1,17500,"-") -> - | R22: =IF(J22=1,P22*Q22,IF(J22=2,1030000,IF(J22=3,310000,IF(J22=4,378000,"")))) | S22: =MIN(O22,R22) -> 0 | U22: =MIN(N22,S22,T22) -> 0 | V22: =ROUNDDOWN(U22,-3) -> 0
Q23: =IF(J23=1,17500,"-") -> - | R23: =IF(J23=1,P23*Q23,IF(J23=2,1030000,IF(J23=3,310000,IF(J23=4,378000,"")))) | S23: =MIN(O23,R23) -> 0 | U23: =MIN(N23,S23,T23) -> 0 | V23: =ROUNDDOWN(U23,-3) -> 0
Q24: =IF(J24=1,17500,"-") -> - | R24: =IF(J24=1,P24*Q24,IF(J24=2,1030000,IF(J24=3,310000,IF(J24=4,378000,"")))) | S24: =MIN(O24,R24) -> 0 | U24: =MIN(N24,S24,T24) -> 0 | V24: =ROUNDDOWN(U24,-3) -> 0
Q25: =IF(J25=1,17500,"-") -> - | R25: =IF(J25=1,P25*Q25,IF(J25=2,1030000,IF(J25=3,310000,IF(J25=4,378000,"")))) | S25: =MIN(O25,R25) -> 0 | U25: =MIN(N25,S25,T25) -> 0 | V25: =ROUNDDOWN(U25,-3) -> 0
Q26: =IF(J26=1,17500,"-") -> - | R26: =IF(J26=1,P26*Q26,IF(J26=2,1030000,IF(J26=3,310000,IF(J26=4,378000,"")))) | S26: =MIN(O26,R26) -> 0 | U26: =MIN(N26,S26,T26) -> 0 | V26: =ROUNDDOWN(U26,-3) -> 0
Q27: =IF(J27=1,17500,"-") -> - | R27: =IF(J27=1,P27*Q27,IF(J27=2,1030000,IF(J27=3,310000,IF(J27=4,378000,"")))) | S27: =MIN(O27,R27) -> 0 | U27: =MIN(N27,S27,T27) -> 0 | V27: =ROUNDDOWN(U27,-3) -> 0
... Q42: =IF(J42=1,17500,"-") -> - | R42: =IF(J42=1,P42*Q42,IF(J42=2,1030000,IF(J42=3,310000,IF(J42=4,378000,"")))) | S42: =MIN(O42,R42) -> 0 | U42: =MIN(N42,S42,T42) -> 0 | V42: =ROUNDDOWN(U42,-3) -> 0

Sheet 12-2スプリンクラー（個別計画書）見直し前
B1: 様 式 ２
B2: ス プ リ ン ク ラ ー 等 施 設 整 備 事 業 計 画 書
AZ4: 計画年度 | BI4: 年度
B8: 施設の種別（○をつける）
B9: 有床診療所 | G9: 病院 | K9: 有床歯科診療所 | P9: 助産所（入所施設を有する）
B10: 施 設 名 | M10: 団 体 名 （ 開 設 者 ） | AB10: 所 在 地
B13: １．整備事業計画概要
B14: 整 備 事 業 期 間 | I14: スプリンクラー等施設整備事業期間
I15: 着工 | K15: 平成 | N15: 年 | P15: 月 | R15: 日 | S15: 竣工 | U15: 平成 | X15: 年 | Z15: 月 | AB15: 日
B17: ２．スプリンクラー施設の整備 | Q17: ※複数棟申請がある場合には棟名ごとに記載（行が不足する場合には適宜行を追加すること）
B18: 施設名 （棟名） | F18: 整備する スプリンクラー等の種別 | J18: スプリンクラー 整備面積 ※小数点第１位四捨五入 | N18: 対象経費の 実支出（予定）額 | R18: 病床数 （助産所にあっては入所施設のベッド数） | V18: 施設全体の病床数 | Z18: 収容人員 | AD18: 延べ床面積 （施設（棟）全体） | AH18: 主な診療科 | AL18: 一日平均入院患者数 （直近の報告） | AP18: 夜間の職員 実配置人数 | AT18: 棟の建築構造 | AX18: 内装の仕上げ | BB18: 消火訓練及び 避難訓練の実施回数 | BF18: 避難誘導灯及び避難誘導標識の有無 | BJ18: 消火器の有無 | BN18: 自動火災報知設備の有無
F19: 1：通常型スプリンクラー 2：水道連結型スプリンクラー 3：パッケージ型自動消火設備 | J19: ㎡ | N19: 円 | R19: 床 | V19: 床 | Z19: 人 | AD19: ㎡ | AH19: ○○科 | AL19: 人／日 | AP19: 人 | AT19: 1：耐火構造 2：準耐火構造 3：非耐火構造 | AX19: 1：不燃 2：準不燃 3：難燃 4：その他 | BB19: 回／年 | BF19: 1：有 2：無 | BJ19: 1：有 2：無 | BN19: 1：有 2：無
B20: ①
B21: ②
B22: ③
B24: ＜補助申請額＞ ※上記アルファベットの施設名（棟名）の申請額を各々記載すること（行が不足する場合には適宜追加すること）
B25: スプリンクラー設置実支出(予定)額 （A） | M25: 対象整備面積 （B） ※小数点第１位四捨五入 | T25: 基準単価 （C） | AA25: 補助基準額 （D）＝（B）×（C） | AL25: 補助申請額 （A）・（D）少ない方の額 ※千円未満端数切り捨て
B26: ① | D26: =N20 -> 0 | K26: 円 | M26: =J20 -> 0 | S26: ㎡ | T26: １７，５００円/㎡ | AA26: =M26*17500 -> 0 | AJ26: 円 | AL26: =ROUNDDOWN(MIN(D26,AA26),-3) -> 0 | AU26: 円
B27: ② | D27: =N21 -> 0 | K27: 円 | M27: =J21 -> 0 | S27: ㎡ | T27: １７，５００円/㎡ | AA27: =M27*17500 -> 0 | AJ27: 円 | AL27: =ROUNDDOWN(MIN(D27,AA27),-3) -> 0 | AU27: 円
B28: ③ | D28: =N22 -> 0 | K28: 円 | M28: =J22 -> 0 | S28: ㎡ | T28: １７，５００円/㎡ | AA28: =M28*17500 -> 0 | AJ28: 円 | AL28: =ROUNDDOWN(MIN(D28,AA28),-3) -> 0 | AU28: 円
B30: ３．自動火災報知設備及び火災通報装置の整備予定 ※複数棟所有の施設に関しては、病床数の最も多い棟を代表として下記事項を記載すること
B31: 補助区分 | J31: 病床数 （助産所にあっては入所施設のベッド数） | N31: 収容人員 | R31: 延べ床面積 （施設（棟）全体） | V31: 主な診療科 | Z31: 一日平均入院患者数 （直近の報告） | AD31: 夜間の職員 実配置人数 | AH31: 棟の建築構造 | AL31: 内装の仕上げ | AP31: 消火訓練及び 避難訓練の実施回数 | AT31: 避難誘導灯及び避難誘導標識の有無 | AX31: 消火器の有無 | BB31: 自動火災報知 設備の有無
J32: 床 | N32: 人 | R32: ㎡ | V32: ○○科 | Z32: 人／日 | AD32: 人 | AH32: 1：耐火構造 2：準耐火構造 3：非耐火構造 | AL32: 1：不燃 2：準不燃 3：難燃 4：その他 | AP32: 回／年 | AT32: 1：有 2：無 | AX32: 1：有 2：無 | BB32: 1：有 2：無
B33: 自動火災報知設備
B34: 火災通報装置
B36: ＜補助申請額＞
O37: 対象経費の実支出（予定）額 （A） | V37: 非常通報機能の有無 | Y37: 基準額 （B） | AF37: 補助申請額 （A）・（B）少ない方の額 ※千円未満端数切り捨て
B38: 自動火災報知設備 | O38: 0 | T38: 円 | Z38: 1030000 | AD38: 円 | AF38: =ROUNDDOWN(MIN(O38,Y38),-3) -> 0 | AK38: 円
B39: 火災通報装置 ※火災通報装置に警察等へ通報される非常通報装置機能も兼ね備える機器を整備する場合には68,000円を加算した金額を基準額とする。 | O39: 0 | T39: 円 | V39: 有 | Z39: 310000 | AD39: 円 | AF39: =ROUNDDOWN(MIN(O39,IF(V39="無",Z39,Z40)),-3) -> 0 | AK39: 円
Z40: 378000 | AD40: 円※
B41: （注）対象面積が読み取れる整備図面・対象経費の実支出予定額の根拠となる見積り書（工事内訳書含む）をあわせて提出すること また補助区分（スプリンクラー（棟ごと）・自動火災報知設備・火災通報装置）ごとに整備図面・見積書を分けて提出すること

Sheet 【申請】事業計画書
B1: （別紙２）
B2: 設備整備事業計画書
B4: 開設者 | D4: 医療機関名 | G4: 所在地
B5: =IF(基本情報入力シート!$C$7="","",基本情報入力シート!$C$7) | D5: =IF(基本情報入力シート!$C$9="","",基本情報入力シート!$C$9) | G5: =IF(基本情報入力シート!$C$6="","",基本情報入力シート!$C$6)
B7: １．設備整備内訳
B8: （１）簡易陰圧装置 | C8: 品名 | D8: 銘柄 | E8: 規格 | F8: 台数 | G8: 病床数 | H8: 単価 （税込） | I8: 金額 （税込） | J8: 選定額 | K8: 設置場所
B9: 病床確保 | C9: 簡易陰圧装置 | H9: =IF(I9="","",I9/F9) | J9: =IF(I9="","",MIN(I9,G9*基本情報入力シート!$B$17))
B10: 病床確保 | C10: 簡易陰圧装置 | H10: =IF(I10="","",I10/F10) | J10: =IF(I10="","",MIN(I10,G10*基本情報入力シート!$B$17))
B11: 病床確保 | C11: 簡易陰圧装置 | H11: =IF(I11="","",I11/F11) | J11: =IF(I11="","",MIN(I11,G11*基本情報入力シート!$B$17))
E12: 合計 | F12: =IF(SUM(F9:F11)=0,"",SUM(F9:F11)) | G12: =IF(SUM(G9:G11)=0,"",SUM(G9:G11)) | H12: =IF(SUM(H9:H11)=0,"",SUM(H9:H11)) | I12: =IF(SUM(I9:I11)=0,"",SUM(I9:I11)) | J12: =IF(SUM(J9:J11)=0,"",SUM(J9:J11))
B13: （２）検査機器 | C13: 品名 | D13: 銘柄 | E13: 規格 | F13: 台数 | H13: 単価 （税込） | I13: 金額 （税込） | J13: 選定額 | K13: 設置場所
C14: 検査機器 | H14: =IF(I14="","",I14/F14) | I14: =IF(I16="","",SUM(I16:I23)) | J14: =IF(I14="","",MIN(F14*基本情報入力シート!B18))
D15: 検査機器内訳 | E15: 品名（詳細） | F15: 個数 | H15: 単価 （税込） | I15: 金額 （税込）
D16: 本体 | F16: =IF(F14="","",F14) | H16: =IF(E16="","",I16/F16)
H17: =IF(E17="","",I17/F17)
H18: =IF(E18="","",I18/F18)
H19: =IF(E19="","",I19/F19)
D20: 必要附属品 | H20: =IF(E20="","",I20/F20)
H21: =IF(E21="","",I21/F21)
H22: =IF(E22="","",I22/F22)
H23: =IF(E23="","",I23/F23)
E24: 合計 | F24: =IF(F14="","",F14) | H24: =H14 | I24: =I14 | J24: =J14
B25: （３）簡易ベッド | C25: 品名 | D25: 銘柄 | E25: 規格 | F25: 台数 | H25: 単価 （税込） | I25: 金額 （税込） | J25: 選定額 | K25: 設置場所
C26: 簡易ベッド | H26: =IF(I26="","",I26/F26) | J26: =IF(I26="","",MIN(I26,F26*基本情報入力シート!$B$19))
C27: 簡易ベッド | H27: =IF(I27="","",I27/F27) | J27: =IF(I27="","",MIN(I27,F27*基本情報入力シート!$B$19))
C28: 簡易ベッド | H28: =IF(I28="","",I28/F28) | J28: =IF(I28="","",MIN(I28,F28*基本情報入力シート!$B$19))
E29: 合計 | F29: =IF(SUM(F26:G28)=0,"",SUM(F26:G28)) | H29: =IF(SUM(H26:H28)=0,"",SUM(H26:H28)) | I29: =IF(SUM(I26:I28)=0,"",SUM(I26:I28)) | J29: =IF(SUM(J26:J28)=0,"",SUM(J26:J28))
B30: （４）HEPAフィルター付き 空気清浄機 | C30: 品名 | D30: 銘柄 | E30: 規格 | F30: 台数 | H30: 単価 （税込） | I30: 金額 （税込） | J30: 選定額 | K30: 設置場所
B31: 発熱外来 | C31: HEPAフィルター付き 空気清浄機 | H31: =IF(I31="","",I31/F31)
B32: 発熱外来 | C32: HEPAフィルター付き 空気清浄機 | H32: =IF(I32="","",I32/F32)
B33: 発熱外来 | C33: HEPAフィルター付き 空気清浄機 | H33: =IF(I33="","",I33/F33)
E34: 合計 | F34: =IF(SUM(F31:G33)=0,"",SUM(F31:G33)) | H34: =IF(SUM(H31:H33)=0,"",SUM(H31:H33)) | I34: =IF(SUM(I31:I33)=0,"",SUM(I31:I33)) | J34: =IF(I31="","",基本情報入力シート!B20)
B36: ２. 整備事業の内容（具体的に記入すること）

Sheet 【申請】誓約書
A3: 誓約書
A8: （宛先）
A9: 埼 玉 県 知 事
C11: 申請者 | E11: 所 在 地
E12: 開 設 者
E13: 代表者職氏名
E14: 医療機関名
A17: 下記事項のいずれにも該当せず、将来においても当該事項のいずれにも該当しないこと
A18: を誓約します。
A19: なお、誓約した内容と事実が相違することが判明した場合には、補助金の交付を受けら
A20: れないこと又は補助金の交付の決定の全部若しくは一部を取り消されること及び補助金を
A21: 返還することになっても異議はありません。
A22: また、これにより生じた損害については、当方が一切の責任を負うものとします。
A24: 記
A25: １ 役員等（申請者が個人である場合にはその者を、申請者が法人である場合にはその
A26: 役員又はその支店若しくは常時契約を締結する事務所の代表者をいう。以下同じ。）
A27: が暴力団員による不当な行為の防止等に関する法律(平成3年法律第77号）第２条第６
A28: 号に規定する暴力団員（以下「暴力団員」という。）である。
A29: ２ 暴力団（暴力団員による不当な行為の防止等に関する法律第２条第２号に規定する
... A35: ５ 役員等が暴力団又は暴力団員と社会的に非難されるべき関係を有している。

Sheet 【実績】実績報告書
A1: 様式第５号（第１２条関係）
A4: 埼玉県協定締結医療機関設備整備事業費補助金実績報告書
F7: 第 | H7: 号
F8: =IF(基本情報入力シート!$C$3="","令和 年 月 日",IF(基本情報入力シート!$C$4="実績報告",基本情報入力シート!$C$3,"令和 年 月 日")) -> 令和 年 月 日
A11: （宛先）
A12: 埼玉県知事 大野 元裕
E15: （報告者）
E16: 所在地 | F16: =IF(基本情報入力シート!C6="","",基本情報入力シート!C6)
E18: 開設者 | F18: =IF(基本情報入力シート!C7="","",基本情報入力シート!C7)
E19: 代表者職氏名 | F19: =IF(基本情報入力シート!C8="","",基本情報入力シート!C8)
E20: 医療機関名 | F20: =IF(基本情報入力シート!C9="","",基本情報入力シート!C9)
A23: 令和 年 月 日付感対第 号で補助金の交付決定の通知を受けた埼玉県協定締結医療
A24: 機関設備整備事業費補助金事業が完了したので、補助金等の交付手続等に関する規則第13条
A25: の規定により、関係書類を添えて、下記のとおり報告します。
A27: 記
A29: １ 補助金精算額 | C29: 金 | D29: =IF(基本情報入力シート!C4="実績報告",【実績】所要額精算書!$Q$12,"") | E29: 円
A30: ２ 経費所要額精算書 （別紙１）
A31: ３ 事業実績報告書 （別紙２）
A32: ４ 添付書類
A33: （１）領収書、請求書、納品書、契約書の写し
A34: （２）入札結果報告書、入札書、又は複数の見積書の写し
A35: （３）設置後の写真
A36: （４）その他参考となる資料

Sheet 【実績】決算書（見込）
A2: 埼玉県協定締結医療機関設備整備事業費 決算書（見込）抄本
D4: =IF(基本情報入力シート!$C$9="","","医療機関名："&基本情報入力シート!$C$9)
B5: １ 収入
E6: 単位：円
B7: 科目 | D7: 決算額 | E7: 摘要
B8: 県補助金 | D8: =IF(基本情報入力シート!C4="実績報告",【実績】所要額精算書!Q12,"")
B9: 事業収入
B10: その他収入
B11: 合計 | D11: =SUM(D8:D10) -> 0
B13: ２ 支出
B15: 科目 | D15: 決算額 | E15: 摘要
B16: 簡易陰圧装置
B17: 簡易ベッド
B18: 検査機器
B19: HEPAフィルター付き空気清浄機
B21: 合計 | D21: =SUM(D16:D20) -> 0
D22: =IF(D11=D21," ","↑「１ 収入」と「２ 支出」が一致していません")

Sheet 【実績】所要額精算書
B1: (別紙１）
B3: 協定締結医療機関設備整備事業費補助金 経費所要額精算書 | U3: =IF(基本情報入力シート!C9="","","医療機関名："&基本情報入力シート!C9)
F4: Ａ | G4: Ｂ | H4: Ｃ＝Ａ－Ｂ | I4: Ｄ | L4: Ｅ | M4: Ｆ | N4: Ｇ | O4: Ｈ | P4: Ｉ | Q4: Ｊ＝Ｈ－Ｉ | R4: Ｋ | S4: Ｌ＝Ｊ－Ｋ | T4: Ｍ | U4: Ｎ | V4: Ｏ | W4: Ｐ＝Ｎ－Ｏ
B5: 事業区分 | C5: 種目 | D5: 医療機関名 | E5: 開 設 者 | F5: 総事業費 | G5: 寄付金その他の収入額 | H5: 差引事業費 | I5: 補助対象経費の支出予定額 | J5: 基 準 額 | M5: 選 定 額 | N5: 交付決定額 | O5: 県補助 基本額 | P5: 仕入に係る 消費税等相当額 | Q5: 実績報告額 | R5: 既交付額 | S5: 差引過不足額 | T5: 国庫補助 基本額 | U5: 国庫補助 所要額 | V5: 仕入に係る 消費税等相当額（国庫分） | W5: 要国庫 補助額 | X5: 県補助率 | Y5: 補助率
I6: 金額 | J6: 基準単価 | K6: 個数 | L6: 総額
F7: 円 | G7: 円 | H7: 円 | I7: 円 | J7: 円 | L7: 円 | M7: 円 | N7: 円 | O7: 円 | P7: 円 | Q7: 円 | R7: 円 | S7: 円 | T7: 円 | U7: 円 | V7: 円 | W7: 円
B8: 新興感染症対応力強化事業 （協定締結医療機関設備整備事業） | C8: 簡易陰圧装置 | D8: =IF(基本情報入力シート!$C$9="","",基本情報入力シート!$C$9) | E8: =IF(基本情報入力シート!$C$7="","",基本情報入力シート!$C$7) | F8: =IF(【実績】事業実績報告書!I12=0,"",【実績】事業実績報告書!I12) | H8: =IFERROR(F8-G8,"") | I8: =IF(F8="","",【実績】事業実績報告書!I12) | J8: =基本情報入力シート!B17 -> 4320000 | K8: =IF(F8="","",【実績】事業実績報告書!G12) | L8: =IF(F8="","",J8*K8) | M8: =IF(F8="","",【実績】事業実績報告書!J12) | N8: =【申請】所要額調書!Q8 | O8: =IF(F8="","",MIN(H8,M8,N8)) | P8: =IF(F8="","",$P$12*(O8/$O$12)) | Q8: =IF(F8="","",O8-P8) | S8: =IF(Q8="","",Q8-R8) | T8: =O8 | U8: =IF(F8="","",ROUNDDOWN(T8*Y8,-3)) | V8: =IF(F8="","",$V$12*(U8/$U$12)) | W8: =IF(F8="","",U8-V8) | X8: 10/10 | Y8: 1/2
B9: 新興感染症対応力強化事業 （協定締結医療機関設備整備事業） | C9: 検査機器 | D9: =IF(基本情報入力シート!$C$9="","",基本情報入力シート!$C$9) | E9: =IF(基本情報入力シート!$C$7="","",基本情報入力シート!$C$7) | F9: =IF(【実績】事業実績報告書!I24=0,"",【実績】事業実績報告書!I24) | H9: =IFERROR(F9-G9,"") | I9: =IF(F9="","",【実績】事業実績報告書!I24) | J9: =基本情報入力シート!B18 -> 9350000 | K9: =IF(F9="","",【実績】事業実績報告書!F24) | L9: =IF(F9="","",J9*K9) | M9: =IF(F9="","",【実績】事業実績報告書!J24) | N9: =【申請】所要額調書!Q9 | O9: =IF(F9="","",MIN(H9,M9,N9)) | P9: =IF(F9="","",$P$12*(O9/$O$12)) | Q9: =IF(F9="","",O9-P9) | S9: =IF(Q9="","",Q9-R9) | T9: =O9 | U9: =IF(F9="","",ROUNDDOWN(T9*Y9,-3)) | V9: =IF(F9="","",$V$12*(U9/$U$12)) | W9: =IF(F9="","",U9-V9) | X9: 10/10 | Y9: 1/2
B10: 新興感染症対応力強化事業 （協定締結医療機関設備整備事業） | C10: 簡易ベッド | D10: =IF(基本情報入力シート!$C$9="","",基本情報入力シート!$C$9) | E10: =IF(基本情報入力シート!$C$7="","",基本情報入力シート!$C$7) | F10: =IF(【実績】事業実績報告書!I29=0,"",【実績】事業実績報告書!I29) | H10: =IFERROR(F10-G10,"") | I10: =IF(F10="","",【実績】事業実績報告書!I29) | J10: =基本情報入力シート!B19 -> 51400 | K10: =IF(F10="","",【実績】事業実績報告書!F29) | L10: =IF(F10="","",J10*K10) | M10: =IF(F10="","",【実績】事業実績報告書!J29) | N10: =【申請】所要額調書!Q10 | O10: =IF(F10="","",MIN(H10,M10,N10)) | P10: =IF(F10="","",$P$12*(O10/$O$12)) | Q10: =IF(F10="","",O10-P10) | S10: =IF(Q10="","",Q10-R10) | T10: =O10 | U10: =IF(F10="","",ROUNDDOWN(T10*Y10,-3)) | V10: =IF(F10="","",$V$12*(U10/$U$12)) | W10: =IF(F10="","",U10-V10) | X10: 10/10 | Y10: 1/2
B11: 新興感染症対応力強化事業 （協定締結医療機関設備整備事業） | C11: HEPAフィルター 付き空気清浄機 | D11: =IF(基本情報入力シート!$C$9="","",基本情報入力シート!$C$9) | E11: =IF(基本情報入力シート!$C$7="","",基本情報入力シート!$C$7) | F11: =IF(【実績】事業実績報告書!I34=0,"",【実績】事業実績報告書!I34) | H11: =IFERROR(F11-G11,"") | I11: =IF(F11="","",【実績】事業実績報告書!I34) | J11: =基本情報入力シート!B20 -> 905000 | K11: - | L11: =IF(F11="","",J11) | M11: =IF(F11="","",【実績】事業実績報告書!J34) | N11: =【申請】所要額調書!Q11 | O11: =IF(F11="","",MIN(H11,M11,N11)) | P11: =IF(F11="","",$P$12*(O11/$O$12)) | Q11: =IF(F11="","",O11-P11) | S11: =IF(Q11="","",Q11-R11) | T11: =O11 | U11: =IF(F11="","",ROUNDDOWN(T11*Y11,-3)) | V11: =IF(F11="","",$V$12*(U11/$U$12)) | W11: =IF(F11="","",U11-V11) | X11: 10/10 | Y11: 1/2
B12: 合計 | F12: =SUM(F8:F11) -> 0 | G12: =SUM(G8:G11) -> 0 | H12: =SUM(H8:H11) -> 0 | I12: =SUM(I8:I11) -> 0 | L12: =SUM(L8:L11) -> 0 | M12: =SUM(M8:M11) -> 0 | N12: =SUM(N8:N11) -> 0 | O12: =SUM(O8:O11) -> 0 | Q12: =SUM(Q8:Q11) -> 0 | R12: =SUM(R8:R11) -> 0 | S12: =SUM(S8:S11) -> 0 | T12: =SUM(T8:T11) -> 0 | U12: =SUM(U8:U11) -> 0 | V12: =ROUNDDOWN(P12/2,0) -> 0 | W12: =SUM(W8:W11) -> 0
B14: Ⅰ．(F)は、(D)と(E)とを比較して少ない方の額。（ただし品ごと）
B15: Ⅱ．(H)は、(G)の範囲内で(C)と(F)とを比較して少ない方の額に補助率を乗じた額。ただし、算出された額に1,000円未満の端数が生じた場合にはこれを切捨てる。
B16: Ⅲ．(J)は、(H)から(I)を差し引いた額。

Sheet 【実績】事業実績報告書
B1: （別紙２）
B2: 設備整備事業実績報告書
B4: 開設者 | D4: 医療機関名 | G4: 所在地
B5: =IF(基本情報入力シート!$C$7="","",基本情報入力シート!$C$7) | D5: =IF(基本情報入力シート!$C$9="","",基本情報入力シート!$C$9) | G5: =IF(基本情報入力シート!$C$6="","",基本情報入力シート!$C$6)
B7: １．設備整備内訳
B8: （１）簡易陰圧装置 | C8: 品名 | D8: 銘柄 | E8: 規格 | F8: 台数 | G8: 病床数 | H8: 単価 （税込） | I8: 金額 （税込） | J8: 選定額 | K8: 設置場所
B9: 病床確保 | C9: 簡易陰圧装置 | H9: =IF(I9="","",I9/F9) | J9: =IF(I9="","",MIN(I9,G9*基本情報入力シート!$B$17))
B10: 病床確保 | C10: 簡易陰圧装置 | H10: =IF(I10="","",I10/F10) | J10: =IF(I10="","",MIN(I10,G10*基本情報入力シート!$B$17))
B11: 病床確保 | C11: 簡易陰圧装置 | H11: =IF(I11="","",I11/F11) | J11: =IF(I11="","",MIN(I11,G11*基本情報入力シート!$B$17))
E12: 合計 | F12: =IF(SUM(F9:F11)=0,"",SUM(F9:F11)) | G12: =IF(SUM(G9:G11)=0,"",SUM(G9:G11)) | H12: =IF(SUM(H9:H11)=0,"",SUM(H9:H11)) | I12: =IF(SUM(I9:I11)=0,"",SUM(I9:I11)) | J12: =IF(SUM(J9:J11)=0,"",SUM(J9:J11))
B13: （２）検査機器 | C13: 品名 | D13: 銘柄 | E13: 規格 | F13: 台数 | H13: 単価 （税込） | I13: 金額 （税込） | J13: 選定額 | K13: 設置場所
C14: 検査機器 | H14: =IF(I14="","",I14/F14) | I14: =IF(I16="","",SUM(I16:I23)) | J14: =IF(I14="","",MIN(F14*基本情報入力シート!B18))
D15: 検査機器内訳 | E15: 品名（詳細） | F15: 個数 | H15: 単価 （税込） | I15: 金額 （税込）
D16: 本体 | F16: =IF(F14="","",F14) | H16: =IF(E16="","",I16/F16)
H17: =IF(E17="","",I17/F17)
H18: =IF(E18="","",I18/F18)
H19: =IF(E19="","",I19/F19)
D20: 必要附属品 | H20: =IF(E20="","",I20/F20)
H21: =IF(E21="","",I21/F21)
H22: =IF(E22="","",I22/F22)
H23: =IF(E23="","",I23/F23)
E24: 合計 | F24: =IF(F14="","",F14) | H24: =H14 | I24: =I14 | J24: =J14
B25: （３）簡易ベッド | C25: 品名 | D25: 銘柄 | E25: 規格 | F25: 台数 | H25: 単価 （税込） | I25: 金額 （税込） | J25: 選定額 | K25: 設置場所
C26: 簡易ベッド | H26: =IF(I26="","",I26/F26) | J26: =IF(I26="","",MIN(I26,F26*基本情報入力シート!$B$19))
C27: 簡易ベッド | H27: =IF(I27="","",I27/F27) | J27: =IF(I27="","",MIN(I27,F27*基本情報入力シート!$B$19))
C28: 簡易ベッド | H28: =IF(I28="","",I28/F28) | J28: =IF(I28="","",MIN(I28,F28*基本情報入力シート!$B$19))
E29: 合計 | F29: =IF(SUM(F26:G28)=0,"",SUM(F26:G28)) | H29: =IF(SUM(H26:H28)=0,"",SUM(H26:H28)) | I29: =IF(SUM(I26:I28)=0,"",SUM(I26:I28)) | J29: =IF(SUM(J26:J28)=0,"",SUM(J26:J28))
B30: （４）HEPAフィルター付き 空気清浄機 | C30: 品名 | D30: 銘柄 | E30: 規格 | F30: 台数 | H30: 単価 （税込） | I30: 金額 （税込） | J30: 選定額 | K30: 設置場所
B31: 発熱外来 | C31: HEPAフィルター付き 空気清浄機 | H31: =IF(I31="","",I31/F31)
B32: 発熱外来 | C32: HEPAフィルター付き 空気清浄機 | H32: =IF(I32="","",I32/F32)
B33: 発熱外来 | C33: HEPAフィルター付き 空気清浄機 | H33: =IF(I33="","",I33/F33)
E34: 合計 | F34: =IF(SUM(F31:G33)=0,"",SUM(F31:G33)) | H34: =IF(SUM(H31:H33)=0,"",SUM(H31:H33)) | I34: =IF(SUM(I31:I33)=0,"",SUM(I31:I33)) | J34: =IF(I31="","",基本情報入力シート!B20)
B36: ２. 整備事業の内容（具体的に記入すること）

Sheet 集計シート
A1: 基本情報 | K1: 交付申請 | M1: 簡易陰圧装置 | V1: 検査機器 | AD1: 簡易ベッド | AL1: 空気清浄機 | AU1: 変更申請 | AW1: 簡易陰圧装置 | BF1: 検査機器 | BN1: 簡易ベッド | BV1: 空気清浄機 | CE1: 実績報告 | CG1: 簡易陰圧装置 | CP1: 検査機器 | CX1: 簡易ベッド | DF1: 空気清浄機
A2: 医療機関コード | B2: 開設者 | C2: 代表者職氏名 | D2: 医 療 機 関 名 | E2: 郵便番号 | F2: 所在地 | G2: 連絡先電話 | H2: メールアドレス | I2: 事務担当者 | J2: 支払方法 | K2: 提出日 | L2: 文書番号 | M2: 総事業費 | N2: 寄付金 | O2: 対象経費 | P2: 台数 | Q2: 病床数 | R2: 選定額 | S2: 銘柄 | T2: 規格 | U2: 設置場所 | V2: 総事業費 | W2: 寄付金 | X2: 対象経費 | Y2: 台数 | Z2: 選定額 | AA2: 銘柄 | AB2: 規格 | AC2: 設置場所 | AD2: 総事業費 | AE2: 寄付金 | AF2: 対象経費 | AG2: 台数 | AH2: 選定額 | AI2: 銘柄 | AJ2: 規格 | AK2: 設置場所 | AL2: 総事業費 | AM2: 寄付金 | AN2: 対象経費 | AO2: 台数 | AP2: 選定額 | AQ2: 銘柄 | AR2: 規格 | AS2: 設置場所 | AT2: 整備事業の内容 | AU2: 提出日 | AV2: 文書番号 | AW2: 総事業費 | AX2: 寄付金 | AY2: 対象経費 | AZ2: 台数 | BA2: 病床数 | BB2: 選定額 | BC2: 銘柄 | BD2: 規格 | BE2: 設置場所 | BF2: 総事業費 | BG2: 寄付金 | BH2: 対象経費 | BI2: 台数 | BJ2: 選定額 | BK2: 銘柄 | BL2: 規格 | BM2: 設置場所 | BN2: 総事業費 | BO2: 寄付金 | BP2: 対象経費 | BQ2: 台数 | BR2: 選定額 | BS2: 銘柄 | BT2: 規格 | BU2: 設置場所 | BV2: 総事業費 | BW2: 寄付金 | BX2: 対象経費 | BY2: 台数 | BZ2: 選定額 | CA2: 銘柄 | CB2: 規格 | CC2: 設置場所 | CD2: 整備事業の内容 | CE2: 提出日 | CF2: 文書番号 | CG2: 総事業費 | CH2: 寄付金 | CI2: 対象経費 | CJ2: 台数 | CK2: 病床数 | CL2: 選定額 | CM2: 銘柄 | CN2: 規格 | CO2: 設置場所 | CP2: 総事業費 | CQ2: 寄付金 | CR2: 対象経費 | CS2: 台数 | CT2: 選定額 | CU2: 銘柄 | CV2: 規格 | CW2: 設置場所 | CX2: 総事業費 | CY2: 寄付金 | CZ2: 対象経費 | DA2: 台数 | DB2: 選定額 | DC2: 銘柄 | DD2: 規格 | DE2: 設置場所 | DF2: 総事業費 | DG2: 寄付金 | DH2: 対象経費 | DI2: 台数 | DJ2: 選定額 | DK2: 銘柄 | DL2: 規格 | DM2: 設置場所 | DN2: 整備事業の内容
A3: =基本情報入力シート!$C$10 -> 0 | B3: =基本情報入力シート!$C$7 -> 0 | C3: =基本情報入力シート!$C$8 -> 0 | D3: =基本情報入力シート!$C$9 -> 0 | E3: =基本情報入力シート!$C$5 -> 0 | F3: =基本情報入力シート!$C$6 -> 0 | G3: =基本情報入力シート!$C$12 -> 0 | H3: =基本情報入力シート!$C$13 -> 0 | I3: =基本情報入力シート!$C$11 -> 0 | J3: =基本情報入力シート!$C$14 -> 0 | K3: =IF(基本情報入力シート!$C$4="交付申請",基本情報入力シート!$C$3,"-") -> - | L3: =IF(基本情報入力シート!$C$4="交付申請",【申請】交付申請書!$F$7,"-") -> - | M3: =IF(基本情報入力シート!$C$4="交付申請",【申請】所要額調書!$F8,"-") -> - | N3: =IF(基本情報入力シート!$C$4="交付申請",【申請】所要額調書!$G8,"-") -> - | O3: =IF(基本情報入力シート!$C$4="交付申請",【申請】所要額調書!$I8,"-") -> - | P3: =IF(基本情報入力シート!$C$4="交付申請",【申請】事業計画書!$F12,"-") -> - | Q3: =IF(基本情報入力シート!$C$4="交付申請",【申請】所要額調書!$K8,"-") -> - | R3: =IF(基本情報入力シート!$C$4="交付申請",【申請】所要額調書!$M8,"-") -> - | S3: =IF(基本情報入力シート!$C$4="交付申請",【申請】事業計画書!$D9&"、"&【申請】事業計画書!$D10&"、"&【申請】事業計画書!$D11,"-") -> - | T3: =IF(基本情報入力シート!$C$4="交付申請",【申請】事業計画書!$E9&"、"&【申請】事業計画書!$E10&"、"&【申請】事業計画書!$E11,"-") -> - | U3: =IF(基本情報入力シート!$C$4="交付申請",【申請】事業計画書!$K9&"、"&【申請】事業計画書!$K10&"、"&【申請】事業計画書!$K11,"-") -> - | V3: =IF(基本情報入力シート!$C$4="交付申請",【申請】所要額調書!$F9,"-") -> - | W3: =IF(基本情報入力シート!$C$4="交付申請",【申請】所要額調書!$G9,"-") -> - | X3: =IF(基本情報入力シート!$C$4="交付申請",【申請】所要額調書!$I9,"-") -> - | Y3: =IF(基本情報入力シート!$C$4="交付申請",【申請】所要額調書!$K9,"-") -> - | Z3: =IF(基本情報入力シート!$C$4="交付申請",【申請】所要額調書!$M9,"-") -> - | AA3: =IF(基本情報入力シート!$C$4="交付申請",【申請】事業計画書!$D14,"-") -> - | AB3: =IF(基本情報入力シート!$C$4="交付申請",【申請】事業計画書!$E14,"-") -> - | AC3: =IF(基本情報入力シート!$C$4="交付申請",【申請】事業計画書!$K14,"-") -> - | AD3: =IF(基本情報入力シート!$C$4="交付申請",【申請】所要額調書!$F10,"-") -> - | AE3: =IF(基本情報入力シート!$C$4="交付申請",【申請】所要額調書!$G10,"-") -> - | AF3: =IF(基本情報入力シート!$C$4="交付申請",【申請】所要額調書!$I10,"-") -> - | AG3: =IF(基本情報入力シート!$C$4="交付申請",【申請】所要額調書!$K10,"-") -> - | AH3: =IF(基本情報入力シート!$C$4="交付申請",【申請】所要額調書!$M10,"-") -> - | AI3: =IF(基本情報入力シート!$C$4="交付申請",【申請】事業計画書!$D26&"、"&【申請】事業計画書!$D27&"、"&【申請】事業計画書!$D28,"-") -> - | AJ3: =IF(基本情報入力シート!$C$4="交付申請",【申請】事業計画書!$E26&"、"&【申請】事業計画書!$E27&"、"&【申請】事業計画書!$E28,"-") -> - | AK3: =IF(基本情報入力シート!$C$4="交付申請",【申請】事業計画書!$K26&"、"&【申請】事業計画書!$K27&"、"&【申請】事業計画書!$K128,"-") -> - | AL3: =IF(基本情報入力シート!$C$4="交付申請",【申請】所要額調書!$F11,"-") -> - | AM3: =IF(基本情報入力シート!$C$4="交付申請",【申請】所要額調書!$G11,"-") -> - | AN3: =IF(基本情報入力シート!$C$4="交付申請",【申請】所要額調書!$I11,"-") -> - | AO3: =IF(基本情報入力シート!$C$4="交付申請",【申請】所要額調書!$K11,"-") -> - | AP3: =IF(基本情報入力シート!$C$4="交付申請",【申請】所要額調書!$M11,"-") -> - | AQ3: =IF(基本情報入力シート!$C$4="交付申請",【申請】事業計画書!$D31&"、"&【申請】事業計画書!$D32&"、"&【申請】事業計画書!$D33,"-") -> - | AR3: =IF(基本情報入力シート!$C$4="交付申請",【申請】事業計画書!$E31&"、"&【申請】事業計画書!$E32&"、"&【申請】事業計画書!$E33,"-") -> - | AS3: =IF(基本情報入力シート!$C$4="交付申請",【申請】事業計画書!$K31&"、"&【申請】事業計画書!$K32&"、"&【申請】事業計画書!$K33,"-") -> - | AT3: =IF(基本情報入力シート!$C$4="交付申請",【申請】事業計画書!B37,"-") -> - | AU3: =IF(基本情報入力シート!$C$4="変更交付申請",基本情報入力シート!$C$3,"-") -> - | AV3: =IF(基本情報入力シート!$C$4="変更交付申請",【申請】交付申請書!$F$7,"-") -> - | AW3: =IF(基本情報入力シート!$C$4="変更交付申請",【申請】所要額調書!$F8,"-") -> - | AX3: =IF(基本情報入力シート!$C$4="変更交付申請",【申請】所要額調書!$G8,"-") -> - | AY3: =IF(基本情報入力シート!$C$4="変更交付申請",【申請】所要額調書!$I8,"-") -> - | AZ3: =IF(基本情報入力シート!$C$4="変更交付申請",【申請】事業計画書!$F12,"-") -> - | BA3: =IF(基本情報入力シート!$C$4="変更交付申請",【申請】所要額調書!$K8,"-") -> - | BB3: =IF(基本情報入力シート!$C$4="変更交付申請",【申請】所要額調書!$M8,"-") -> - | BC3: =IF(基本情報入力シート!$C$4="変更交付申請",【申請】事業計画書!$D9&"、"&【申請】事業計画書!$D10&"、"&【申請】事業計画書!$D11,"-") -> - | BD3: =IF(基本情報入力シート!$C$4="変更交付申請",【申請】事業計画書!$E9&"、"&【申請】事業計画書!$E10&"、"&【申請】事業計画書!$E11,"-") -> - | BE3: =IF(基本情報入力シート!$C$4="変更交付申請",【申請】事業計画書!$K9&"、"&【申請】事業計画書!$K10&"、"&【申請】事業計画書!$K11,"-") -> - | BF3: =IF(基本情報入力シート!$C$4="変更交付申請",【申請】所要額調書!$F9,"-") -> - | BG3: =IF(基本情報入力シート!$C$4="変更交付申請",【申請】所要額調書!$G9,"-") -> - | BH3: =IF(基本情報入力シート!$C$4="変更交付申請",【申請】所要額調書!$I9,"-") -> - | BI3: =IF(基本情報入力シート!$C$4="変更交付申請",【申請】所要額調書!$K9,"-") -> - | BJ3: =IF(基本情報入力シート!$C$4="変更交付申請",【申請】所要額調書!$M9,"-") -> - | BK3: =IF(基本情報入力シート!$C$4="変更交付申請",【申請】事業計画書!$D14,"-") -> - | BL3: =IF(基本情報入力シート!$C$4="変更交付申請",【申請】事業計画書!$E14,"-") -> - | BM3: =IF(基本情報入力シート!$C$4="変更交付申請",【申請】事業計画書!$K14,"-") -> - | BN3: =IF(基本情報入力シート!$C$4="変更交付申請",【申請】所要額調書!$F10,"-") -> - | BO3: =IF(基本情報入力シート!$C$4="変更交付申請",【申請】所要額調書!$G10,"-") -> - | BP3: =IF(基本情報入力シート!$C$4="変更交付申請",【申請】所要額調書!$I10,"-") -> - | BQ3: =IF(基本情報入力シート!$C$4="変更交付申請",【申請】所要額調書!$K10,"-") -> - | BR3: =IF(基本情報入力シート!$C$4="変更交付申請",【申請】所要額調書!$M10,"-") -> - | BS3: =IF(基本情報入力シート!$C$4="変更交付申請",【申請】事業計画書!$D26&"、"&【申請】事業計画書!$D27&"、"&【申請】事業計画書!$D28,"-") -> - | BT3: =IF(基本情報入力シート!$C$4="変更交付申請",【申請】事業計画書!$E26&"、"&【申請】事業計画書!$E27&"、"&【申請】事業計画書!$E28,"-") -> - | BU3: =IF(基本情報入力シート!$C$4="変更交付申請",【申請】事業計画書!$K26&"、"&【申請】事業計画書!$K27&"、"&【申請】事業計画書!$K128,"-") -> - | BV3: =IF(基本情報入力シート!$C$4="変更交付申請",【申請】所要額調書!$F11,"-") -> - | BW3: =IF(基本情報入力シート!$C$4="変更交付申請",【申請】所要額調書!$G11,"-") -> - | BX3: =IF(基本情報入力シート!$C$4="変更交付申請",【申請】所要額調書!$I11,"-") -> - | BY3: =IF(基本情報入力シート!$C$4="変更交付申請",【申請】所要額調書!$K11,"-") -> - | BZ3: =IF(基本情報入力シート!$C$4="変更交付申請",【申請】所要額調書!$M11,"-") -> - | CA3: =IF(基本情報入力シート!$C$4="変更交付申請",【申請】事業計画書!$D31&"、"&【申請】事業計画書!$D32&"、"&【申請】事業計画書!$D33,"-") -> - | CB3: =IF(基本情報入力シート!$C$4="変更交付申請",【申請】事業計画書!$E31&"、"&【申請】事業計画書!$E32&"、"&【申請】事業計画書!$E33,"-") -> - | CC3: =IF(基本情報入力シート!$C$4="変更交付申請",【申請】事業計画書!$K31&"、"&【申請】事業計画書!$K32&"、"&【申請】事業計画書!$K33,"-") -> - | CD3: =IF(基本情報入力シート!$C$4="変更交付申請",【申請】事業計画書!AL37,"-") -> - | CE3: =IF(基本情報入力シート!$C$4="実績報告",基本情報入力シート!$C$3,"-") -> - | CF3: =IF(基本情報入力シート!$C$4="実績報告",【実績】実績報告書!$F$7,"-") -> - | CG3: =IF(基本情報入力シート!$C$4="実績報告",【実績】所要額精算書!$F8,"-") -> - | CH3: =IF(基本情報入力シート!$C$4="実績報告",【実績】所要額精算書!$G8,"-") -> - | CI3: =IF(基本情報入力シート!$C$4="実績報告",【実績】所要額精算書!$I8,"-") -> - | CJ3: =IF(基本情報入力シート!$C$4="実績報告",【実績】事業実績報告書!$F12,"-") -> - | CK3: =IF(基本情報入力シート!$C$4="実績報告",【実績】所要額精算書!$K8,"-") -> - | CL3: =IF(基本情報入力シート!$C$4="実績報告",【実績】所要額精算書!$M8,"-") -> - | CM3: =IF(基本情報入力シート!$C$4="実績報告",【実績】事業実績報告書!$D9&"、"&【実績】事業実績報告書!$D10&"、"&【実績】事業実績報告書!$D11,"-") -> - | CN3: =IF(基本情報入力シート!$C$4="実績報告",【実績】事業実績報告書!$E9&"、"&【実績】事業実績報告書!$E10&"、"&【実績】事業実績報告書!$E11,"-") -> - | CO3: =IF(基本情報入力シート!$C$4="実績報告",【実績】事業実績報告書!$K9&"、"&【実績】事業実績報告書!$K10&"、"&【実績】事業実績報告書!$K11,"-") -> - | CP3: =IF(基本情報入力シート!$C$4="実績報告",【実績】所要額精算書!$F9,"-") -> - | CQ3: =IF(基本情報入力シート!$C$4="実績報告",【実績】所要額精算書!$G9,"-") -> - | CR3: =IF(基本情報入力シート!$C$4="実績報告",【実績】所要額精算書!$I9,"-") -> - | CS3: =IF(基本情報入力シート!$C$4="実績報告",【実績】所要額精算書!$K9,"-") -> - | CT3: =IF(基本情報入力シート!$C$4="実績報告",【実績】所要額精算書!$M9,"-") -> - | CU3: =IF(基本情報入力シート!$C$4="実績報告",【実績】事業実績報告書!$D14,"-") -> - | CV3: =IF(基本情報入力シート!$C$4="実績報告",【実績】事業実績報告書!$E14,"-") -> - | CW3: =IF(基本情報入力シート!$C$4="実績報告",【実績】事業実績報告書!$K14,"-") -> - | CX3: =IF(基本情報入力シート!$C$4="実績報告",【実績】所要額精算書!$F10,"-") -> - | CY3: =IF(基本情報入力シート!$C$4="実績報告",【実績】所要額精算書!$G10,"-") -> - | CZ3: =IF(基本情報入力シート!$C$4="実績報告",【実績】所要額精算書!$I10,"-") -> - | DA3: =IF(基本情報入力シート!$C$4="実績報告",【実績】所要額精算書!$K10,"-") -> - | DB3: =IF(基本情報入力シート!$C$4="実績報告",【実績】所要額精算書!$M10,"-") -> - | DC3: =IF(基本情報入力シート!$C$4="実績報告",【実績】事業実績報告書!$D26&"、"&【実績】事業実績報告書!$D27&"、"&【実績】事業実績報告書!$D28,"-") -> - | DD3: =IF(基本情報入力シート!$C$4="実績報告",【実績】事業実績報告書!$E26&"、"&【実績】事業実績報告書!$E27&"、"&【実績】事業実績報告書!$E28,"-") -> - | DE3: =IF(基本情報入力シート!$C$4="実績報告",【実績】事業実績報告書!$K26&"、"&【実績】事業実績報告書!$K27&"、"&【実績】事業実績報告書!$K128,"-") -> - | DF3: =IF(基本情報入力シート!$C$4="実績報告",【実績】所要額精算書!$F11,"-") -> - | DG3: =IF(基本情報入力シート!$C$4="実績報告",【実績】所要額精算書!$G11,"-") -> - | DH3: =IF(基本情報入力シート!$C$4="実績報告",【実績】所要額精算書!$I11,"-") -> - | DI3: =IF(基本情報入力シート!$C$4="実績報告",【実績】所要額精算書!$K11,"-") -> - | DJ3: =IF(基本情報入力シート!$C$4="実績報告",【実績】所要額精算書!$M11,"-") -> - | DK3: =IF(基本情報入力シート!$C$4="実績報告",【実績】事業実績報告書!$D31&"、"&【実績】事業実績報告書!$D32&"、"&【実績】事業実績報告書!$D33,"-") -> - | DL3: =IF(基本情報入力シート!$C$4="実績報告",【実績】事業実績報告書!$E31&"、"&【実績】事業実績報告書!$E32&"、"&【実績】事業実績報告書!$E33,"-") -> - | DM3: =IF(基本情報入力シート!$C$4="実績報告",【実績】事業実績報告書!$K31&"、"&【実績】事業実績報告書!$K32&"、"&【実績】事業実績報告書!$K33,"-") -> - | DN3: =IF(基本情報入力シート!$C$4="実績報告",【実績】事業実績報告書!BV37,"-") -> -

Sheet 国第２号様式（別紙２）
B3: 別紙（２） | C3: 事業計画書
B5: １．施設の名称 | C5: =IF(基本情報入力シート!$C$9="","",基本情報入力シート!$C$9)
B6: ２．施設の所在地 | C6: =IF(基本情報入力シート!$C$6="","",基本情報入力シート!$C$6)
B7: ３．事業の種類（交付要綱の３に掲げる事業名） | E7: （21）新興感染症対応力強化事業（協定締結医療機関設備整備事業）
B8: ４．設備整備の内容
B10: 品名 | C10: 銘柄 | D10: 規格 | E10: 員数 | F10: 単価 | G10: 金額 | H10: 設置場所 | I10: 備考
B11: １．補助対象事業分 | F11: 円 | G11: 円
B12: 簡易陰圧装置 | C12: =IF(【申請】事業計画書!$D$9="","",【申請】事業計画書!$D$9&"、"&【申請】事業計画書!$D$10&"、"&【申請】事業計画書!$D$11) | D12: =IF(【申請】事業計画書!$D$9="","",【申請】事業計画書!$E$9&"、"&【申請】事業計画書!$E$10&"、"&【申請】事業計画書!$E$11) | E12: =IF(【申請】事業計画書!D9="","",【申請】事業計画書!F12) | F12: =IFERROR(G12/E12,"") | G12: =IF(【申請】事業計画書!$D$9="",0,【申請】事業計画書!$I$12) -> 0 | H12: =IF(【申請】事業計画書!$D$9="","",【申請】事業計画書!$K$9&"、"&【申請】事業計画書!$K$10&"、"&【申請】事業計画書!$K$11)
B13: 検査機器 | C13: =IF(【申請】事業計画書!$D$14="","",【申請】事業計画書!$D$14) | D13: =IF(【申請】事業計画書!$D$14="","",【申請】事業計画書!$E$14) | E13: =IF(【申請】事業計画書!$D$14="","",【申請】事業計画書!$F$14) | F13: =IFERROR(G13/E13,"") | G13: =IF(【申請】事業計画書!$D$14="",0,【申請】事業計画書!$I$14) -> 0 | H13: =IF(【申請】事業計画書!$D$14="","",【申請】事業計画書!$K$14)
B14: 簡易ベッド | C14: =IF(【申請】事業計画書!$D$26="","",【申請】事業計画書!$D$26&"、"&【申請】事業計画書!$D$27&"、"&【申請】事業計画書!$D$28) | D14: =IF(【申請】事業計画書!$D$26="","",【申請】事業計画書!$E$26&"、"&【申請】事業計画書!$E$27&"、"&【申請】事業計画書!$E$28) | E14: =IF(【申請】事業計画書!$D$26="","",【申請】事業計画書!$F$29) | F14: =IFERROR(G14/E14,"") | G14: =IF(【申請】事業計画書!$D$26="",0,【申請】事業計画書!$I$29) -> 0 | H14: =IF(【申請】事業計画書!$D$26="","",【申請】事業計画書!$K$26&"、"&【申請】事業計画書!$K$27&"、"&【申請】事業計画書!$K$28)
B15: HEPAフィルター付き空気清浄機 | C15: =IF(【申請】事業計画書!$D$31="","",【申請】事業計画書!$D$31&"、"&【申請】事業計画書!$D$32&"、"&【申請】事業計画書!$D$33) | D15: =IF(【申請】事業計画書!$D$31="","",【申請】事業計画書!$E$31&"、"&【申請】事業計画書!$E$32&"、"&【申請】事業計画書!$E$33) | E15: =IF(【申請】事業計画書!$D$31="","",【申請】事業計画書!$F$34) | F15: =IFERROR(G15/E15,"") | G15: =IF(【申請】事業計画書!$D$31="",0,【申請】事業計画書!$I$34) -> 0 | H15: =IF(【申請】事業計画書!$D$31="","",【申請】事業計画書!$K$31&"、"&【申請】事業計画書!$K$32&"、"&【申請】事業計画書!$K$33)
G16: =F16*E16 -> 0
G17: =F17*E17 -> 0
G18: =F18*E18 -> 0
B19: 小計 | C19: － | D19: － | E19: － | F19: － | G19: =SUM(G12:G18) -> 0 | H19: － | I19: －
B21: ２．補助対象外事業分 | F21: 円 | G21: 円
G22: =F22*E22 -> 0
G23: =F23*E23 -> 0
G24: =F24*E24 -> 0
G25: =F25*E25 -> 0
G26: =F26*E26 -> 0
B27: 小計 | C27: － | D27: － | E27: － | F27: － | G27: =SUM(G22:G26) -> 0 | H27: － | I27: －
B29: 合計 | C29: － | D29: － | E29: － | F29: － | G29: =SUM(G19,G27) -> 0 | H29: － | I29: －

Sheet 国第３号様式（別紙２）
B3: 別紙（２） | C3: 事業実績報告書
B5: １．施設の名称 | C5: =IF(基本情報入力シート!$C$9="","",基本情報入力シート!$C$9)
B6: ２．施設の所在地 | C6: =IF(基本情報入力シート!$C$6="","",基本情報入力シート!$C$6)
B7: ３．事業の種類（交付要綱の３に掲げる事業名） | E7: （21）新興感染症対応力強化事業（協定締結医療機関設備整備事業）
B8: ４．設備整備の内容
B10: 品名 | C10: 銘柄 | D10: 規格 | E10: 員数 | F10: 単価 | G10: 金額 | H10: 設置場所 | I10: 備考
B11: １．補助対象事業分 | F11: 円 | G11: 円
B12: 簡易陰圧装置 | C12: =IF(【実績】事業実績報告書!$D$9="","",【実績】事業実績報告書!$D$9&"、"&【実績】事業実績報告書!$D$10&"、"&【実績】事業実績報告書!$D$11) | D12: =IF(【実績】事業実績報告書!$D$9="","",【実績】事業実績報告書!$E$9&"、"&【実績】事業実績報告書!$E$10&"、"&【実績】事業実績報告書!$E$11) | E12: =IF(【実績】事業実績報告書!D9="","",【実績】事業実績報告書!F12) | F12: =IFERROR(G12/E12,"") | G12: =IF(【実績】事業実績報告書!$D$9="",0,【実績】事業実績報告書!$I$12) -> 0 | H12: =IF(【実績】事業実績報告書!$D$9="","",【実績】事業実績報告書!$K$9&"、"&【実績】事業実績報告書!$K$10&"、"&【実績】事業実績報告書!$K$11)
B13: 検査機器 | C13: =IF(【実績】事業実績報告書!$D$14="","",【実績】事業実績報告書!$D$14) | D13: =IF(【実績】事業実績報告書!$D$14="","",【実績】事業実績報告書!$E$14) | E13: =IF(【実績】事業実績報告書!$D$14="","",【実績】事業実績報告書!$F$14) | F13: =IFERROR(G13/E13,"") | G13: =IF(【実績】事業実績報告書!$D$14="",0,【実績】事業実績報告書!$I$14) -> 0 | H13: =IF(【実績】事業実績報告書!$D$14="","",【実績】事業実績報告書!$K$14)
B14: 簡易ベッド | C14: =IF(【実績】事業実績報告書!$D$26="","",【実績】事業実績報告書!$D$26&"、"&【実績】事業実績報告書!$D$27&"、"&【実績】事業実績報告書!$D$28) | D14: =IF(【実績】事業実績報告書!$D$26="","",【実績】事業実績報告書!$E$26&"、"&【実績】事業実績報告書!$E$27&"、"&【実績】事業実績報告書!$E$28) | E14: =IF(【実績】事業実績報告書!$D$26="","",【実績】事業実績報告書!$F$29) | F14: =IFERROR(G14/E14,"") | G14: =IF(【実績】事業実績報告書!$D$26="",0,【実績】事業実績報告書!$I$29) -> 0 | H14: =IF(【実績】事業実績報告書!$D$26="","",【実績】事業実績報告書!$K$26&"、"&【実績】事業実績報告書!$K$27&"、"&【実績】事業実績報告書!$K$28)
B15: HEPAフィルター付き空気清浄機 | C15: =IF(【実績】事業実績報告書!$D$31="","",【実績】事業実績報告書!$D$31&"、"&【実績】事業実績報告書!$D$32&"、"&【実績】事業実績報告書!$D$33) | D15: =IF(【実績】事業実績報告書!$D$31="","",【実績】事業実績報告書!$E$31&"、"&【実績】事業実績報告書!$E$32&"、"&【実績】事業実績報告書!$E$33) | E15: =IF(【実績】事業実績報告書!$D$31="","",【実績】事業実績報告書!$F$34) | F15: =IFERROR(G15/E15,"") | G15: =IF(【実績】事業実績報告書!$D$31="",0,【実績】事業実績報告書!$I$34) -> 0 | H15: =IF(【実績】事業実績報告書!$D$31="","",【実績】事業実績報告書!$K$31&"、"&【実績】事業実績報告書!$K$32&"、"&【実績】事業実績報告書!$K$33)
G16: =F16*E16 -> 0
G17: =F17*E17 -> 0
G18: =F18*E18 -> 0
B19: 小計 | C19: － | D19: － | E19: － | F19: － | G19: =SUM(G12:G18) -> 0 | H19: － | I19: －
B21: ２．補助対象外事業分 | F21: 円 | G21: 円
G22: =F22*E22 -> 0
G23: =F23*E23 -> 0
G24: =F24*E24 -> 0
G25: =F25*E25 -> 0
G26: =F26*E26 -> 0
B27: 小計 | C27: － | D27: － | E27: － | F27: － | G27: =SUM(G22:G26) -> 0 | H27: － | I27: －
B29: 合計 | C29: － | D29: － | E29: － | F29: － | G29: =SUM(G19,G27) -> 0 | H29: － | I29: －

Sheet 管理用（このシートは削除しないでください）
B1: 事業区分 | D1: 施工内容 | F1: 構造 | H1: 様式１ 補助対象部分
B3: (1) へき地診療所施設整備事業 | D3: 新築 | F3: 鉄骨鉄筋コンクリート造 | H3: へき地診療所施設整備事業 | I3: 過疎地域等特定診療所施設整備事業 | J3: へき地保健指導所施設整備事業 | K3: 研修医のための研修施設整備事業 | L3: 臨床研修病院施設整備事業 | M3: へき地医療拠点病院施設整備事業 | N3: 医師臨床研修病院研修医環境整備事業 | O3: 離島等患者宿泊施設施設整備事業 | P3: 産科医療機関施設整備事業 | Q3: 分娩取扱施設施設整備事業 | R3: 死亡時画像診断システム施設整備事業 | S3: 南海トラフ地震に係る津波避難対策緊急事業 | T3: 新興感染症対応力強化事業（病室の感染対策に係る整備） | U3: 新興感染症対応力強化事業（病室の感染対策に係る整備以外） | V3: 院内感染対策施設整備事業
B4: (2) 過疎地域等特定診療所施設整備事業 | D4: 移転新築 | F4: 鉄筋コンクリート造 | H4: 診療所 | I4: 診療所 | J4: 指導部門及び住宅部門 | K4: － | L4: － | M4: 診療部門 | N4: － | O4: － | P4: 診療部門 | Q4: 診療部門 | R4: － | S4: へき地医療拠点病院 | V4: －
B5: (3) へき地保健指導所施設整備事業 | D5: 改築 | F5: 鉄骨造（鉄筋コンクリート造と同等の強度） | H5: 医師住宅 | I5: 医師住宅 | J5: 指導部門 | M5: 医師住宅 | P5: 宿泊施設 | Q5: 宿泊施設 | S5: へき地診療所
B6: (4) 研修医のための研修施設整備事業 | D6: 増築 | F6: 鉄骨造（ブロック造と同等の強度） | H6: 歯科医師住宅 | I6: 歯科医師住宅 | J6: 住宅部門
B7: (5) 臨床研修病院施設整備事業 | D7: 改修 | F7: ブロック造 | H7: 看護師住宅 | I7: 看護師住宅
B8: (6) へき地医療拠点病院施設整備事業 | F8: 木造 | H8: ヘリポート
B9: (7) 医師臨床研修病院研修医環境整備事業 | F9: プレハブ造
B10: (8) 離島等患者宿泊施設施設整備事業 | F10: その他
B11: (9) 産科医療機関施設整備事業 | T11: 有
B12: (10) 分娩取扱施設施設整備事業 | T12: 無
B13: (11) 死亡時画像診断システム施設整備事業
B14: (12) 有床診療所等スプリンクラー等施設整備事業
B15: (13) 南海トラフ日本海溝・千島海溝周辺海溝型地震に係る津波避難対策緊急事業
B16: (14)院内感染対策施設整備事業
B17: (16)新興感染症対応力強化事業（病室の感染対策に係る整備）
B18: (16)新興感染症対応力強化事業（病室の感染対策に係る整備以外）
B22: 特定地域振興法の指定状況 | D22: 設置主体 | H22: 様式１ 計算式
B24: (1) 離島振興法 第10条第1項第1号の指定地域 | C24: 「離島」 | D24: 01 独立行政法人 | I24: 分類 | J24: 国庫補助 基本額係数 | K24: 再分類 | L24: 国庫補助 所要額係数 （直接、都道府県） | M24: 国庫補助 所要額係数 （間接）
B25: (2) 奄美群島振興開発特別措置法第1条の地域 | C25: 「奄美」 | D25: 02 国立大学法人 | H25: へき地診療所施設整備事業 | I25: b | J25: 0.5 | K25: A | L25: 0.5 | M25: 1
B26: (3) 小笠原諸島振興開発特別措置法 第4条第1項の地域 | C26: 「小笠原」 | D26: 03 国立研究開発法人 | H26: 過疎地域等特定診療所施設整備事業 | I26: b | J26: 0.75 | K26: A | L26: 0.5 | M26: 0.66666667
B27: (4) 沖縄振興特別措置法 第3条第3号の指定地域 | C27: 「沖縄離島」 | D27: 04 都道府県 | H27: へき地保健指導所施設整備事業 | I27: b | J27: 0.33333333 | K27: A | L27: 0.33333333 | M27: 1
B28: (5) 過疎地域の持続的発展の支援に関する特別措置法 第20条第1項第1号の地域 | C28: 「過疎」 | D28: 05 市町村 | H28: 研修医のための研修施設整備事業 | I28: c | J28: - | K28: A | L28: 0.5 | M28: 0.5
B29: (6) 豪雪地帯対策特別措置法 第2条第1項の指定地域 | C29: 「豪雪」 | D29: 06 地方独立行政法人 | H29: 臨床研修病院施設整備事業 | I29: c | J29: - | K29: A | L29: 0.5 | M29: 0.5
B30: (7) 豪雪地帯対策特別措置法 第2条第2項の指定地域 | C30: 「特豪」 | D30: 07 日本赤十字社 | H30: へき地医療拠点病院施設整備事業 | I30: a | J30: - | K30: A | L30: 0.5 | M30: 0.5
B31: (8) 山村振興法 第7条第1項の指定地域 | C31: 「山村」 | D31: 08 済生会 | H31: 医師臨床研修病院研修医環境整備事業 | I31: b | J31: 0.66666667 | K31: A | L31: 0.33333333 | M31: 0.5
B32: (9) 半島振興法 第2条第1項の指定地域 | C32: 「半島」 | D32: 09 北海道社会事業協会 | H32: 離島等患者宿泊施設施設整備事業 | I32: b | J32: 0.66666667 | K32: A | L32: 0.33333333 | M32: 0.5
B33: (10) 該当なし | D33: 10 厚生連 | H33: 産科医療機関施設整備事業 | I33: b | J33: 0.5 | K33: A | L33: 0.5 | M33: 1
D34: 11 国民健康保険団体連合会 | H34: 分娩取扱施設施設整備事業 | I34: b | J34: 0.5 | K34: A | L34: 0.5 | M34: 1
D35: 12 健康保険組合及びその連合会 | H35: 死亡時画像診断システム施設整備事業 | I35: b | J35: 0.5 | K35: A | L35: 0.5 | M35: 1
D36: 13 共済組合及びその連合会 | H36: 有床診療所等スプリンクラー等施設整備事業 | I36: a | J36: - | K36: B | L36: - | M36: 1
D37: 14 国民健康保険組合 | H37: 南海トラフ日本海溝・千島海溝周辺海溝型地震に係る津波避難対策緊急事業 | I37: b | J37: 0.5 | K37: A | L37: 0.5 | M37: 1
D38: 15 公益法人 | H38: 新興感染症対応力強化事業（病室の感染対策に係る整備） | I38: a | J38: 0.66666667 | K38: A | L38: 0.33333333 | M38: 0.5
D39: 16 医療法人 | H39: 新興感染症対応力強化事業（病室の感染対策に係る整備以外） | I39: a | J39: - | K39: A | L39: 0.5 | M39: 0.5
D40: 17 私立学校法人 | H40: 院内感染対策施設整備事業 | I40: b | J40: 0.33333333 | K40: A | L40: 0.33333333 | M40: 1
D41: 18 社会福祉法人
D42: 19 医療生協
D43: 20 会社
D44: 21 その他の法人
D45: 22 個人
...
