Workbook

Sheet 請求書
E2: 請求書
F4: 請求日：
B6: （宛先）
B7: 埼玉県知事 大野 元裕
E9: 郵便番号
E10: 所在地
E12: 開設者
E13: 代表者職氏名
E14: 医療機関コード
E15: 医療機関名
C17: ="金"&TEXT(D24,"#,##0")&"円" -> 金0円
E19: として、上記金額を支払われたく請求します。
B21: １ 請求額等
C22: =IF(D2="概算払","① 交付決定額","① 交付確定額") -> ① 交付確定額 | E22: 円
C23: ② 既受領額 | E23: 円
C24: ③ 今回請求額 | E24: 円
C25: ④ 残額 | D25: =D22-D23-D24 -> 0 | E25: 円
B27: ２ 振込先（以下の口座に振り替えてください。）
C28: 金融機関名 | E28: 金融機関コード
C29: 支店名 | E29: 支店コード
C30: 口座種別
C31: 口座番号
C32: 口座名義
C33: 口座カナ名義（※）
C34: 上記振込先情報を確認できる資料（例：通帳の該当部分のコピー）の
C35: ｐｄｆファイル等を必ず添付してください。
B37: （お願い）
C38: ※口座振込エラーが発生すると振込処理ができなくなりますので、次の点に特に
C39: 御注意ください。
C40: 「口座名義」及び「口座カナ名義」（カナ略語含む）は、通帳の表紙裏に印字された
C41: 「名義」・「カナ名義」をそのまま御記入ください。
E42: 担当者
E43: 連絡先

Sheet データ（請求）
A1: 医療機関コード | B1: 開設者 | C1: 代表者職氏名 | D1: 医療機関名 | E1: 郵便番号 | F1: 所在地 | G1: 事業区分 | H1: 請求方法 | I1: 請求日 | J1: 請求額 | K1: 金融機関名 | L1: 金融機関コード | M1: 支店名 | N1: 支店コード | O1: 口座種別 | P1: 口座番号 | Q1: 口座名義 | R1: 口座カナ名義
A2: =請求書!$F$14 -> 0 | B2: =請求書!$F$12 -> 0 | C2: =請求書!$F$13 -> 0 | D2: =請求書!$F$15 -> 0 | E2: =請求書!$F$9 -> 0 | F2: =請求書!$F$10 -> 0 | G2: =請求書!$C$19 -> 0 | H2: =請求書!$D$2 -> 0 | I2: =請求書!$G$4 -> 0 | J2: =請求書!$D$24 -> 0 | K2: =請求書!$D$28 -> 0 | L2: =請求書!$F$28 -> 0 | M2: =請求書!$D$29 -> 0 | N2: =請求書!$F$29 -> 0 | O2: =請求書!$D$30 -> 0 | P2: =請求書!$D$31 -> 0 | Q2: =請求書!$D$32 -> 0 | R2: =請求書!$D$33 -> 0
