Workbook

Sheet 別紙１（所要額調書）
A1: 別紙１
A2: 令和8年度 新人看護職員研修事業所要額調書
A3: ※緑色のセルのみ御記入ください（他のセルは自動計算されます）。
A4: 「別紙１参考」、「別紙１記入例」をよく読んで記入してください。
H5: 基 準 額 の 算 出
A6: 施 設 区 分 | B6: 医療機関名 | C6: 設置 主体 | D6: 総事業費 | E6: 寄付金その他の収入額 | F6: 差引額 Ｄ－Ｅ＝Ｆ | G6: 対象経費の支出予定額 | H6: 新人看護職員数 | I6: 研修経費基準額 | J6: 教育担当者経費基準額 | K6: 医療機関受入研修事業基準額 | N6: 計 | O6: 選定額① | P6: 選定額② | Q6: 補助金支出予定額
K7: 総時間数 | L7: 受入予定数 | M7: 基準額
A8: A | B8: B | C8: C | D8: D | E8: E | F8: F | G8: G | H8: H | I8: I | J8: J | K8: K | L8: L | M8: M | N8: N | O8: O | P8: P | Q8: Q
D9: 円 | E9: 円 | F9: 円 | G9: 円 | H9: 人 | I9: 円 | J9: 円 | K9: 時間 | L9: 人 | M9: 円 | N9: 円 | O9: 円 | P9: 円 | Q9: 円
F10: =D10-E10 -> 0 | G10: ='別紙２（内訳）'!F83 -> 0 | J10: =ROUNDDOWN(IF(H10>70,70,H10)/5,0)*215000 -> 0 | L10: =IF(ROUNDDOWN(K10/40,0)>30,30,ROUNDDOWN(K10/40,0)) -> 0 | M10: =IF(L10<1,0,IF((1<=L10)*OR(L10<=4),113000,IF((5<=L10)*OR(L10<=9),226000,IF((10<=L10)*OR(L10<=14),566000,IF((15<=L10)*OR(L10<=19),849000,1132000+(L10-20)*45000))))) -> 0 | N10: =I10+J10+M10 -> 0 | O10: =MIN(G10,N10) -> 0 | P10: =MIN(F10,O10) -> 0 | Q10: =ROUNDDOWN(P10*0.5,-3) -> 0
G11: ↑ 別紙２の「合計」と一致します。 | H11: ↑ 別紙３の「新人看護職員数」と一致します。 | K11: ↑ 受入研修を行う場合のみ記入してください。
H13: 医療機関名 | I13: =B10 -> 0 | M13: 住所 | N13: （〒 － ）
H15: 電話番号 | M15: ＦＡＸ番号
H16: メールアドレス
H17: 事務担当者 | I17: 所属課等 | L17: 職名 | N17: 氏名
B24: 病院 | C24: 都道府県
B25: 診療所 | C25: 市区町村
B26: 助産所 | C26: 公的
B27: 介護老人保健施設 | C27: 国病機構
B28: 指定訪問看護事業所 | C28: 独法
C29: 地方独法
C30: 国大法人
C31: 共済
C32: 健保
C33: 国保
C34: 学校
C35: 社福
C36: 医療法人
C37: 社団
C38: 財団
C39: その他
C40: 個人
C41: 会社

Sheet 別紙２（内訳）
A1: 別紙２
A2: ※緑色のセルのみ御記入ください（他のセルは自動計算されます）。 「別紙２参考」、「別紙２記入例」をよく読んで記入してください。
F3: 施設名： | G3: ='別紙１（所要額調書）'!B10 -> 0
B4: 令 和 8 年 度 対 象 経 費 の 支 出 予 定 額 算 出 内 訳
C5: 区分 | F5: 実支出額 | G5: 積算内訳
F6: 円
B7: （研 修 経 費）※１
C8: 賃金
C10: 研修責任者経費 | F10: =+F12+F14+F16 -> 0
D12: 謝金
D14: 人件費
D16: 手当
C18: 報償費
C20: 旅費
C22: 需用費 | F22: =+F24+F26+F28+F30 -> 0
D24: 消耗品費
D26: 印刷製本費
D28: 会議費
D30: 図書購入費
C32: 役務費 | F32: =+F34+F36 -> 0
D34: 通信運搬費
D36: 雑役務費
C38: 使用料及び賃借料
C40: 備品購入費
C42: 小計 | F42: =+SUM(F8,F10,F18,F20,F22,F32,F38,F40) -> 0
B43: （教 育 担 当 者 経 費）※２
C44: 教育担当者経費
D46: 謝金
D48: 人件費
D50: 手当
C52: 小計 | F52: =+F46+F48+F50 -> 0
B53: （医療機関受入研修事業）※３
C54: 教育担当者経費 | F54: =+F56+F58+F60 -> 0
D56: 謝金
D58: 人件費
D60: 手当
C62: 需用費 | F62: =+F64+F66+F68+F70 -> 0
D64: 消耗品費
D66: 印刷製本費
D68: 会議費
D70: 図書購入費
C72: 役務費 | F72: =+F74+F76 -> 0
D74: 通信運搬費
D76: 雑役務費
C78: 使用料及び賃借料
C80: 備品購入費
C82: 小計 | F82: =+SUM(F54,F62,F72,F78,F80) -> 0
C83: 合計 | F83: =+F42+F52+F82 -> 0
B85: ※ | C85: １ 賃金は、外部の研修参加に伴う代替職員経費に限る
B86: ※ | C86: ２ 教育担当者経費は、新人看護職員が５名以上の場合に限り計上が可能
B87: ※ | C87: ３ 医療機関受入研修事業を行った場合に計上が可能

Sheet 別紙３（事業計画）
A1: 別紙３
A2: 令 和 ８ 年 度 新 人 看 護 職 員 研 修 事 業 計 画 書
A4: ※緑色のセルのみ御記入ください（他のセルは自動計算されます）。
A5: 「別紙３参考」、「別紙３記入例」をよく読んで記入してください。
A7: ①貴施設の状況
A8: 施設区分 | C8: 病院等名称 | L8: 設置 主体 | N8: 医療法上の許可病床の総数 | P8: 看護 職員数
N11: 床 | P11: 人
A15: ②新人看護職員研修事業について
A16: 新人 | E16: 合計 「新人看護職員数」 | F16: 新人看護職員を支える組織体制 | J16: 研修 責任者数 | L16: 教育 担当者数 | N16: 実地 指導者数 | P16: 到達目標の設定の 有無 | Q16: 研修プログラムの 有無
A18: 保健師数 | B18: 助産師数 | C18: 看護師数 | D18: 准看護師数 | J18: 専任 | K18: 兼任 | L18: 専任 | M18: 兼任 | N18: 専任 | O18: 兼任
A19: 人 | B19: 人 | C19: 人 | D19: 人 | E19: 人 | J19: 人 | K19: 人 | L19: 人 | M19: 人 | N19: 人 | O19: 人
E20: =SUM(A20:D20) -> 0
E21: ↑ 別紙１のＨ欄と一致します。
A22: ③医療機関受入研修事業について（受入研修を実施する場合のみ記入してください。）
A23: 受入予定の研修種別及び人数 | E23: 実施 月数 | F23: 実施 日数 | G23: 研修の公開・公募方法
A24: 新人看護職員研修 | B24: 新人 保健師研修 | C24: 新人 助産師 研修 | D24: 合計
A25: 人 | B25: 人 | C25: 人 | D25: 人 | E25: ヶ月 | F25: 日
D26: =SUM(A26:C26) -> 0
S30: 病院 | T30: 都道府県 | U30: ① | V30: 有 | W30: ＨＰ上での公募
S31: 診療所 | T31: 市区町村 | U31: ② | V31: 無 | W31: 機関誌等での公募
S32: 助産所 | T32: 公的 | U32: ③ | W32: 地方自治体を通じての広報等
S33: 介護老人保健施設 | T33: 国病機構 | U33: ④ | W33: 関係団体等を通じての広報等
S34: 指定訪問看護事業所 | T34: 独法 | U34: ⑤ | W34: 地域の会議等での広報等
T35: 地方独法 | U35: ⑥ | W35: その他
T36: 国大法人
T37: 共済
T38: 学校
T39: 社福
T40: 医療法人
T41: 社団
T42: 財団
T43: その他
T44: 個人
T45: 会社

Sheet 別紙４（名簿）
A1: 別紙４
A2: 令 和 8 年 度 新 人 看 護 職 員 名 簿
D3: 施設名： | E3: ='別紙１（所要額調書）'!B10 -> 0
B4: ※ 令和8年4月末日現在に在職していた者を記入すること。
A5: № | B5: 氏 名 | C5: 従事している職種 | D5: 令和8年度の勤務形態 | E5: ※ 准看護師の場合 令和8年度の高看 課程修学の有無 （就労と就学を兼ねているか） | F5: 参加する研修 | I5: 備 考
F6: 新人看護職員研修 | G6: 新人保健師研修 | H6: 新人助産師研修
A7: 1 | K7: 保健師 | L7: 常勤 | M7: 有 | N7: ○
A8: 2 | K8: 助産師 | L8: 非常勤 | M8: 無
A9: 3 | K9: 看護師 | L9: その他
A10: 4 | K10: 准看護師
A11: 5
A12: 6
A13: 7
A14: 8
A15: 9
A16: 10
A17: 11
A18: 12
A19: 13
A20: 14
A21: 15
A22: 16
... A76: 70

Sheet 別紙５（年間計画様式自由）
B2: 新人看護職員研修年間計画の作成について ※ 任意の様式でA４用紙１～２枚程度にまとめてください。 ※ 集合研修については、研修の日程、テーマ、時間数、講師等の予定を記入してください。 ※ 新人保健師研修又は新人助産師研修を実施する場合は、その計画も別に作成してください。 ※ 既に作成したものがあれば、それを提出してください。 ※ 医療機関受入研修事業を実施する場合は、内容が分かる資料を提出してください。

Sheet 別添１
A1: 別添１
A3: 施設区分一覧
A5: 番号 | B5: 区分
A6: 1 | B6: 病院
A7: 2 | B7: 診療所
A8: 3 | B8: 助産所
A9: 4 | B9: 介護老人保健施設
A10: 5 | B10: 指定訪問看護事業所
A11: ＊「指定訪問看護事業所」とは、看護師等の人材確保の促進に関する法律第２条第２項にいう 「指定訪問看護事業を行う事業所」を指す。
A13: 設置主体一覧
A15: 番号 | B15: 名称 | C15: 略称名
A16: 1 | B16: 都道府県 | C16: 都道府県
A17: 2 | B17: 市区町村、広域連合及び一部事務組合 | C17: 市区町村
A18: 3 | B18: 日本赤十字社 | C18: 公的
B19: 社会福祉法人恩賜財団済生会
B20: 全国厚生農業協同組合連合会の会員である厚生（医療）農業協同組合連合会
B21: 社会福祉法人北海道社会事業協会
A22: 4 | B22: 国立病院機構 | C22: 国病機構
A23: 5 | B23: その他国所管独立行政法人 | C23: 独法
A24: 6 | B24: 地方独立行政法人 | C24: 地方独法
A25: 7 | B25: 国立大学法人 | C25: 国大法人
A26: 8 | B26: 国家公務員共済組合及び連合会 | C26: 共済
B27: 地方公務員等共済組合
B28: 私立学校教職員共済組合
B29: 農林漁業団体職員共済組合
A30: 9 | B30: 健康保険組合及びその連合会 | C30: 健保
A31: 10 | B31: 国民健康保険組合及び国民健康保険団体連合会 | C31: 国保
A32: 11 | B32: 学校法人 | C32: 学校
A33: 12 | B33: 社会福祉法人 | C33: 社福
A34: 13 | B34: 医療法人 | C34: 医療法人
A35: 14 | B35: 一般or公益 社団法人（特例民法法人含む） | C35: 社団
A36: 15 | B36: 一般or公益 財団法人（特例民法法人含む） | C36: 財団
A37: 16 | B37: その他の法人 | C37: その他
A38: 17 | B38: 個人 | C38: 個人
A39: 18 | B39: 株式会社等 | C39: 会社

Sheet 別添２
A1: 別添２
A4: 研修の公開・公募方法一覧
A7: 番号 | B7: 名 称
A8: 1 | B8: ＨＰ上での公募
A9: 2 | B9: 機関誌等での公募
A10: 3 | B10: 地方自治体を通じての広報等
A11: 4 | B11: 関係団体等を通じての広報等
A12: 5 | B12: 地域の会議等での広報等
A13: 6 | B13: その他

Sheet 別紙１参考
A1: 別紙１参考
A2: 以下を参考に作成してください。
A3: 記載要領
A4: ① | B4: Ａ欄「施設区分」及びＣ欄「設置主体」は、別添１から当てはまるものを選択してください。
A5: ② | B5: Ｄ欄「総事業費」には、新人看護職員研修事業にかかる総事業費を記載してください。
A6: ③ | B6: Ｇ欄「対象経費の支出予定額」には、別紙２の合計額の金額が転記されます。
A7: ④ | B7: Ｈ欄「新人看護職員数」欄には、新人看護職員（新人保健師、新人助産師、新人看護師及び新人准看護師）の人数を記載してください。 新人看護職員の人数は当該年度の４月末日現在に在職していた、新人看護職員であって、それぞれの研修に参加する人数とします。 なお、新人看護職員研修、新人保健師研修又は新人助産師研修の複数の研修を実施する施設において、複数の研修に参加する者は１名として計上してください。 別紙３の「新人看護職員数」と人数が一致するか確認してください。
A8: ⑤ | B8: Ｉ欄「研修経費基準額」については次の額を記入してください。 ○新人看護職員が１名のとき、440,000（新人保健師研修・新人助産師研修のいずれかを含む場合は586,000） ○新人看護職員が２名以上のとき630,000（新人保健師研修・新人助産師研修のいずれかを含む場合は776,000、その両方を含む場合は922,000）
A9: ⑥ | B9: Ｋ欄「総時間数」には、他の医療機関から新人看護職員を受け入れて研修を実施する施設のみ記載してください。
A10: ⑦ | B10: Ｏ欄「選定額①」には、Ｇ欄とＮ欄を比較して少ない方の金額が記載されます。
A11: ⑧ | B11: Ｐ欄「選定額②」には、Ｆ欄とＯ欄を比較して少ない方の金額が記載されます。
A12: ⑨ | B12: 別紙１及び別紙２を作成するとＱ欄「補助金支出予定額」に、Ｐ欄の金額に２分の１を乗じて得た金額（1,000円未満切り捨て）が記載されます。

Sheet 別紙１記入例
A1: 別紙１
A2: 令和●年度 新人看護職員研修事業所要額調書
A3: ※緑色のセルのみ御記入ください（他のセルは自動計算されます）。
A4: 「別紙１参考」、「別紙１記入例」をよく読んで記入してください。
H5: 基 準 額 の 算 出
A6: 施 設 区 分 | B6: 医療機関名 | C6: 設置 主体 | D6: 総事業費 | E6: 寄付金その他の収入額 | F6: 差引額 Ｄ－Ｅ＝Ｆ | G6: 対象経費の支出予定額 | H6: 新人看護職員数 | I6: 研修経費基準額 | J6: 教育担当者経費基準額 | K6: 医療機関受入研修事業基準額 | N6: 計 | O6: 選定額① | P6: 選定額② | Q6: 補助金支出予定額
K7: 総時間数 | L7: 受入予定数 | M7: 基準額
A8: A | B8: B | C8: C | D8: D | E8: E | F8: F | G8: G | H8: H | I8: I | J8: J | K8: K | L8: L | M8: M | N8: N | O8: O | P8: P | Q8: Q
D9: 円 | E9: 円 | F9: 円 | G9: 円 | H9: 人 | I9: 円 | J9: 円 | K9: 時間 | L9: 人 | M9: 円 | N9: 円 | O9: 円 | P9: 円 | Q9: 円
A10: 病院 | B10: 医療法人○○会○○病院 | C10: 医療法人 | D10: 15000000 | E10: 0 | F10: =D10-E10 -> 15000000 | G10: =別紙２記入例!F84 -> 7517000 | H10: 25 | I10: 630000 | J10: =ROUNDDOWN(IF(H10>70,70,H10)/5,0)*215000 -> 1075000 | K10: 100 | L10: 5 | M10: =IF(L10<1,0,IF((1<=L10)*OR(L10<=4),113000,IF((5<=L10)*OR(L10<=9),226000,IF((10<=L10)*OR(L10<=14),566000,IF((15<=L10)*OR(L10<=19),849000,1132000+(L10-20)*45000))))) -> 226000 | N10: =I10+J10+M10 -> 1931000 | O10: =MIN(G10,N10) -> 1931000 | P10: =MIN(F10,O10) -> 1931000 | Q10: =ROUNDDOWN(P10*0.5,-3) -> 965000
B18: 病院 | C18: 都道府県
B19: 診療所 | C19: 市区町村
B20: 助産所 | C20: 公的
B21: 介護老人保健施設 | C21: 国病機構
B22: 指定訪問看護事業所 | C22: 独法
C23: 地方独法
C24: 国大法人
C25: 共済
C26: 健保
C27: 国保
C28: 学校
C29: 社福
C30: 医療法人
C31: 社団
C32: 財団
C33: その他
C34: 個人
C35: 会社

Sheet 別紙２参考
B1: 別紙２参考
B2: 対 象 経 費 の 内 容 に つ い て
B3: （研 修 経 費）
C4: 区分 | F4: 内 容 | H4: 備 考
B5: 賃 金 | F5: 一部外部研修に参加した新人看護職員の代替職員にかかる賃金 ＊代替職員とは必ずしも新たに雇用する必要はないが、新人看護職員の外部研修参加にかかる代替職員の賃金であることを病院等において監査等で説明ができるように整理しておく必要があります
C7: 研修責任者経費 | F7: 研修責任者が新人看護職員研修事業の業務（注１）にかかる謝金・人件費または手当 ＊専任である場合は全ての人件費が計上可能です ＊兼任の場合は本事業に従事する分を従事割合・業務時間等により按分するなどの方法により計上が可能ですが、その他の業務にかかる人件費との棲み分けを病院等において監査等で説明ができるように整理しておく必要があります ＊謝金とは研修責任者の本事業の業務にかかる対価が謝金として支給される場合を想定しています ＊手当とは研修責任者の本事業の業務にかかる対価が時間外手当やその他特別手当などにより支給される場合を想定しています | H7: （注１）新人看護職員研修事業の業務とは実施要綱に定める事業内容を遂行するために必要（プログラムの策定，新人研修の企画・立案なども含む）な全ての業務を含みます。なお、ガイドラインにおける教育担当者の育成や実地指導者の育成にかかる部分については実施要綱の業務内容に含まれていないため対象外となります。
C8: 謝 金
C9: 人 件 費
C10: 手 当
B11: 報 償 費 | F11: 新人看護職員の院内研修における外部講師や委員に対する謝金等の報償費
B13: 旅 費 | F13: 新人看護職員の院内研修における外部講師や委員に対する旅費及び新人看護職員が外部の研修に参加する場合の旅費等
C15: 需 用 費
C17: 消 耗 品 費 | F17: 本事業に必要な消耗品費 | H17: 研修に必要な衛生材料などの医療用消耗品や薬品類等の購入にかかる経費も含まれます。
C19: 印 刷 製 本 費 | F19: 本事業に必要な印刷製本費 | H19: 本事業にかかる会議や院内研修などの資料や教材の印刷を業者に依頼した場合の経費などです。
C21: 会 議 費 | F21: 本事業にかかる会議の開催に必要な経費 | H21: 外部の講師や委員などのお茶・弁当代や速記にかかる経費が考えられますが、病院職員のお茶代などの計上は好ましくありません。
C23: 図 書 購 入 費 | F23: 本事業に必要な図書購入費 | H23: 本事業で使用する書籍やDVD教材の購入にかかる経費などです。
C25: 役 務 費
C27: 通 信 運 搬 費 | F27: 本事業に必要な郵便料、宅急便料金 | H27: 例えば、郵便料として切手、葉書、小包、速達、書留等の料金が考えられます。
C29: 雑 役 務 費 | F29: 本事業にかかるその他役務費 | H29: 例えば、新人看護職員が外部の研修に参加した場合の受講料などが想定されます。
B31: 使用料及び賃借料 | F31: 本事業にかかる研修に用いる器材等のリース料や外部の会議室を使用する場合などの賃借にかかる経費
B33: 備 品 購 入 費 | F33: 本事業で使用する器具機械その他備品等のうち、比較的長期の使用に耐えうる物品の購入にかかる経費 | H33: 例えばシミュレーターの購入費などが考えられます。 本事業以外でも使用する場合は対象経費として計上できません。
B35: （教 育 担 当 者 経 費）
C36: 区分 | F36: 内 容 | H36: 備 考
C37: 教育担当者経費 | F37: 教育担当者が新人看護職員研修事業の業務（注１）にかかる謝金・人件費または手当（注２） ＊専任である場合は全ての人件費が計上可能です ＊兼任の場合は本事業に従事する分を従事割合・業務時間等により按分するなどの方法により計上が可能ですが、その他の業務にかかる人件費との棲み分けを病院等において監査等で説明ができるように整理しておく必要があります ＊謝金とは研修責任者の本事業の業務にかかる対価が謝金として支給される場合を想定しています ＊手当とは研修責任者の本事業の業務にかかる対価が時間外手当やその他特別手当などにより支給される場合を想定しています | H37: （注２）自施設の新人研修にかかる教育担当者経費と医療機関受入研修事業にかかる教育担当者を切り分けることが難しい場合、全ての教育担当者経費を一括計上可能です。
C38: 謝 金
C39: 人 件 費
C40: 手 当
B41: （医療機関受入研修事業）
C42: 区分 | F42: 内 容 | H42: 備 考
C43: 教 育 担 当 者 経 費 | F43: 教育担当者が新人看護職員研修事業の業務（注１）にかかる謝金・人件費または手当（注２） ＊専任である場合は全ての人件費が計上可能です ＊兼任の場合は本事業に従事する分を従事割合・業務時間等により按分するなどの方法により計上が可能ですが、その他の業務にかかる人件費との棲み分けを病院等において監査等で説明ができるように整理しておく必要があります ＊謝金とは研修責任者の本事業の業務にかかる対価が謝金として支給される場合を想定しています ＊手当とは研修責任者の本事業の業務にかかる対価として時間外手当やその他特別手当などにより支給される場合を想定しています
C44: 謝 金
C45: 人 件 費
C46: 手 当
C47: 需 用 費
C49: 消 耗 品 費 | F49: 本事業に必要な消耗品費（研修に必要な衛生材料などの医療用消耗品や薬品類等の購入にかかる経費も含まれます） | H49: 他施設から受入れた新人看護職員のためにかかる経費です。
C51: 印 刷 製 本 費 | F51: 本事業に必要な印刷製本費（本事業にかかる会議や院内研修などの資料や教材の印刷を業者に依頼した場合の経費などです）
C53: 会 議 費 | F53: 本事業にかかる会議の開催に必要な経費（外部講師や委員などのお茶・弁当代や速記にかかる経費が考えられますが、病院職員のお茶代などの計上は好ましくありません）
C55: 図 書 購 入 費 | F55: 本事業に必要な図書購入費（本事業で使用する書籍やDVD教材の購入にかかる経費などです。）
C57: 役 務 費
C59: 通 信 運 搬 費 | F59: 本事業に必要な郵便料、宅急便料金（例えば、郵便料として切手、葉書、小包、速達、書留等の料金が考えられます） | H59: 他施設からの参加者の公募のための案内通知の郵送等が考えられます。
C61: 雑 役 務 費 | F61: 本事業にかかるその他役務費
B63: 使用料及び賃借料 | F63: 本事業にかかる研修に用いる器材等のリース料や外部の会議室を使用する場合などの賃借にかかる経費
B65: 備 品 購 入 費 | F65: 本事業で使用する器具機械その他備品等のうち、比較的長期の使用に耐えうる物品の購入にかかる経費（例えばシミュレータやモデル人形の購入費などが考えられます）

Sheet 別紙２記入例
A1: 別紙２（記入例） | G1: 自施設の新人看護職員２５人、
G2: 他施設から受け入れ予定の新人看護職員 ５人
G3: 研修責任者（副看護部長）１人、教育担当者（師長）４人 の場合
B5: 令 和●年 度 対 象 経 費 の 支 出 予 定 額 算 出 内 訳
A6: 区 分 | F6: 支出予定額 | G6: 積算内訳
F7: 円
B8: （研 修 経 費）
C9: 賃金 | F9: 120000 | G9: 臨時職員賃金（看護職員）時給1,500円×８Ｈ×10日
C11: 研修責任者経費 | F11: =F13+F15+F17 -> 1116000
D13: 謝金 | F13: 0
D15: 人件費 | F15: 1080000 | G15: 副看護部長1名：年額7,200,000（諸手当・賞与含む）×新人研修に係る業務割合(15/100）
D17: 手当 | F17: 36000 | G17: 副看護部長1名：研修実施特別手当 月額3,000円×12月
C19: 報償費 | F19: 40000 | G19: コミュニケーション技術に係る外部講師報償費 20,000円×2日
C21: 旅費 | F21: 60000 | G21: 講師旅費30,000円、新人看護師研修旅費(2,000円×15人）
C23: 需用費 | F23: =F25+F27+F29+F31 -> 65000
D25: 消耗品費 | F25: 15000 | G25: 文房具、用紙等研修に必要なもの
D27: 印刷製本費 | F27: 25000 | G27: テキスト印刷代25名分(講師分、予備含む）
D29: 会議費 | F29: 0
D31: 図書購入費 | F31: 25000 | G31: 研修用冊子25名分(講師分、予備含む）
C33: 役務費 | F33: =F35+F37 -> 501000
D35: 通信運搬費 | F35: 500000 | G35: 電話、ファックス代、郵送料、e-ラーニング
D37: 雑役務費 | F37: 1000 | G37: 振込手数料
C39: 使用料及び賃借料 | F39: 30000 | G39: ○○会場会議室使用料 5000×2日、モデル人形レンタル料 20,000円/日
C41: 備品購入費 | F41: 350000 | G41: 採血静注シミュレーター1台 ノートパソコン（新人研修のみで使用）
C43: 小計 | F43: =F9+F11+F19+F21+F23+F33+F39+F41 -> 2282000
B44: （教 育 担 当 者 経 費）
C45: 教育担当者経費 | F45: =F47+F49+F51 -> 4640000
D47: 謝金 | F47: 0
D49: 人件費 | F49: 4640000 | G49: 病棟看護師長4名/4名：年額5,800,000(賞与・諸手当含む）×新人研修に係る業務割合20/100×4名
D51: 手当 | F51: 0
C53: 小計 | F53: =F45 -> 4640000
B54: （医療機関受入研修事業）
C55: 教育担当者経費 | F55: =F57+F59+F61 -> 580000
D57: 謝金 | F57: 0
D59: 人件費 | F59: 580000 | G59: 病棟看護師長2名/4名：年額5,800,000(賞与・諸手当含む）×受入研修に係る業務割合5/100×2名
D61: 手当 | F61: 0
C63: 需用費 | F63: =F65+F67+F69+F71 -> 12000
D65: 消耗品費 | F65: 2000 | G65: 文房具、用紙等研修に必要なもの
D67: 印刷製本費 | F67: 5000 | G67: テキスト印刷代5名分
D69: 会議費 | F69: 0
D71: 図書購入費 | F71: 5000 | G71: 研修用冊子5名分
C73: 役務費 | F73: =F75+F77 -> 3000
D75: 通信運搬費 | F75: 3000 | G75: 電話、ファックス代、郵送料
D77: 雑役務費 | F77: 0
C79: 使用料及び賃借料 | F79: 0
C81: 備品購入費 | F81: 0
C83: 小計 | F83: =F55+F63+F73+F79+F81 -> 595000
A84: 合 計 | F84: =F43+F53+F83 -> 7517000

Sheet 別紙３参考
A1: 別紙３参考
A2: 以下を参考に作成してください。
A3: 記載要領
A4: ① | B4: 「看護職員数」、「新人保健師数」、「新人助産師数」、「新人看護師数」、「新人准看護師数」、「新人看護職員数」、「研修責任者数」、「教育担当者数」及び「実施指導者数」は、令和８年４月末日の人数を記載してください。
A5: ② | B5: 新人保健師：主として保健師免許取得後に初めて就労する保健師のうち、新人保健師研修に参加する者をいいます。 新人助産師：主として助産師免許取得後に初めて就労する助産師のうち、新人助産師研修に参加する者をいいます。 新人看護師：主として看護師免許取得後に初めて就労する看護師のうち、新人看護職員研修に参加する者をいいます。 新人准看護師：主として准看護師免許取得後に初めて就労する准看護師のうち、新人看護職員研修に参加する者をいいます。 新人看護職員：新人保健師、新人助産師、新人看護師及び新人准看護師であって、それぞれの研修に参加する者をいいます。なお、人数の記入については、新人看護職員研修、新人保健師研修又は新人助産師研修の複数の研修を実施する施設において、複数の研修に参加する者は１名として数えてください。
A6: ③ | B6: 「施設区分」及び「設置主体」は、別添１から当てはまるものを選択してください。
A7: ④ | B7: 「看護職員数」とは、保健師・助産師・看護師・准看護師のいずれかの免許の有資格者数とし、二以上の免許を持つ者も一名として数えてください。
A8: ⑥ | B8: 「新人看護職員を支える組織体制」について、貴施設の新人看護職員に対する職場適応のサポートやメンタルサポート等の体制状況を記載してください。 ～新人看護職員を支える組織体制の例～ ○プリセプターシップ 新人看護職員１人に対して決められた経験のある先輩看護職員（プリセプター）がマンツーマン（同じ勤務を一緒に行う）で、ある一定期間新人研修を担当する方法。 ○チューターシップ 各新人看護職員に決まった相談相手（チューター）を配置し、仕事の仕方、学習方法、悩みごとなどの精神面、生活など広範囲にわたり相談や支援を行う方法。 ○チーム支援型 特定の指導係を置くのではなく、チームで新人看護職員を教育・支援する方法。
A9: ⑦ | B9: 「研修責任者数」、「教育担当者数」及び「実地指導者数」について、他の役割と兼任している場合は、それぞれの「兼任」欄に人数を記載してください。
A10: ⑨ | B10: 「受入予定の研修種別及び人数」について、自施設の研修に、他の施設から受け入れる予定の者の実人数を記載してください。
A11: ⑩ | B11: 「実施月数」、「実施日数」は、それぞれ医療機関受入研修事業の年間実施予定月数、日数を記載してください。 例えば、「４月、６月、８月、１０月にそれぞれ２日ずつ受入研修を行う」場合は、「実施月数」は「４」、「実施日数」は「８」となります。
A12: ⑪ | B12: 「研修の公開・公募方法」は、別添２から最もよく当てはまるものを選択し、「その他」を選択した場合は備考欄に体制及び方法を簡潔に記載してください。

Sheet 別紙３記入例
A1: 別紙３
A2: 令 和 ● 年 度 新 人 看 護 職 員 研 修 事 業 計 画 書
A4: ※緑色のセルのみ御記入ください（他のセルは自動計算されます）。
A5: 「別紙３参考」、「別紙３記入例」をよく読んで記入してください。
A7: ①貴施設の状況
A8: 施設区分 | C8: 病院等名称 | L8: 設置 主体 | N8: 医療法上の許可病床総数 | P8: 看護 職員数 | R8: 代表者職名 | S8: 代表者氏名
N11: 床 | P11: 人
A12: 病院 | C12: 医療法人○○会○○病院 | L12: 医療法人 | N12: 450 | P12: 300 | R12: 理事長 | S12: 埼玉 太郎
A15: ②新人看護職員研修事業について
A16: 新人保 健師数 | B16: 新人助産師数 | C16: 新人看護師数 | D16: 新人准看護師数 | E16: 合計 「新人看護職員数」 | F16: 新人看護職員を支える組織体制 | J16: 研修 責任者数 | L16: 教育 担当者数 | N16: 実地 指導者数 | P16: 到達目標の設定の 有無 | Q16: 研修プログラムの 有無
J18: 専任 | K18: 兼任 | L18: 専任 | M18: 兼任 | N18: 専任 | O18: 兼任
A19: 人 | B19: 人 | C19: 人 | D19: 人 | E19: 人 | F19: プリセプターシップ 相談窓口設置 | J19: 人 | K19: 人 | L19: 人 | M19: 人 | N19: 人 | O19: 人 | P19: 有 | Q19: 有
A20: 0 | B20: 0 | C20: 20 | D20: 5 | E20: =SUM(A20:D20) -> 25 | J20: 1 | M20: 4 | O20: 20
E21: ↑ 別紙１のＨ欄と一致します。
A22: ③医療機関受入研修事業について（該当する場合のみ記入してください。）
A23: 受入予定の研修種別及び人数 | E23: 実施 月数 | F23: 実施 日数 | G23: 研修の公開・公募方法
A24: 新人看護職員研修 | B24: 新人 保健師 研修 | C24: 新人 助産師 研修 | D24: 合計
A25: 人 | B25: 人 | C25: 人 | D25: 人 | E25: ヶ月 | F25: 日
A26: 3 | B26: 2 | C26: 0 | D26: =SUM(A26:C26) -> 5 | E26: 4 | F26: 8 | G26: ＨＰ上での公募
U30: 病院 | V30: 都道府県 | W30: ① | X30: 有 | Y30: ＨＰ上での公募
U31: 診療所 | V31: 市区町村 | W31: ② | X31: 無 | Y31: 機関誌等での公募
U32: 助産所 | V32: 公的 | W32: ③ | Y32: 地方自治体を通じての広報等
U33: 介護老人保健施設 | V33: 国病機構 | W33: ④ | Y33: 関係団体等を通じての広報等
U34: 指定訪問看護事業所 | V34: 独法 | W34: ⑤ | Y34: 地域の会議等での広報等
V35: 地方独法 | Y35: その他
V36: 国大法人
V37: 共済
V38: 学校
V39: 社福
V40: 医療法人
V41: 社団
V42: 財団
V43: その他
V44: 個人
V45: 会社

Sheet 【入力しない】医療人材課集計シート
A1: 医療機関名 | B1: 設置 主体 | C1: 総事業費 | D1: 寄付金その他の収入額 | E1: 新人看護職員数 | F1: 研修経費基準額 | G1: 医療機関受入研修総時間数 | I1: 施設区分 | J1: 設置法人名・ 病院等名称 | K1: 設置 主体 | L1: 医療法上の許可病床の総数 | M1: 看護 職員数 | N1: 保健師数 | O1: 助産師数 | P1: 看護師数 | Q1: 准看護師数 | R1: 合計 「新人看護職員数」 | S1: 新人看護職員を支える組織体制 | T1: 研修 責任者数 専任 | U1: 研修 責任者数 兼任 | V1: 教育 担当者数 専任 | W1: 教育 担当者数 兼任 | X1: 実地 指導者数 専任 | Y1: 実地 指導者数 兼任 | Z1: 到達目標の設定の 有無 | AA1: 研修プログラムの 有無 | AB1: 新人看護職員研修 | AC1: 新人 保健師研修 | AD1: 新人 助産師 研修 | AE1: 合計 | AF1: 実施 月数 | AG1: 実施 日数 | AH1: 研修の公開・公募方法 | AJ1: 住所 | AK1: 職名 | AL1: 担当者 | AM1: 電話 | AN1: アドレス
A2: ='別紙１（所要額調書）'!B10 -> 0 | B2: ='別紙１（所要額調書）'!C10 -> 0 | C2: ='別紙１（所要額調書）'!D10 -> 0 | D2: ='別紙１（所要額調書）'!E10 -> 0 | E2: ='別紙１（所要額調書）'!H10 -> 0 | F2: ='別紙１（所要額調書）'!I10 -> 0 | G2: ='別紙１（所要額調書）'!K10 -> 0 | I2: ='別紙３（事業計画）'!A12 -> 0 | J2: ='別紙３（事業計画）'!C12 -> 0 | K2: ='別紙３（事業計画）'!L12 -> 0 | L2: ='別紙３（事業計画）'!N12 -> 0 | M2: ='別紙３（事業計画）'!P12 -> 0 | N2: ='別紙３（事業計画）'!A20 -> 0 | O2: ='別紙３（事業計画）'!B20 -> 0 | P2: ='別紙３（事業計画）'!C20 -> 0 | Q2: ='別紙３（事業計画）'!D20 -> 0 | R2: ='別紙３（事業計画）'!E20 -> 0 | S2: ='別紙３（事業計画）'!F19 -> 0 | T2: ='別紙３（事業計画）'!J20 -> 0 | U2: ='別紙３（事業計画）'!K20 -> 0 | V2: ='別紙３（事業計画）'!L20 -> 0 | W2: ='別紙３（事業計画）'!M20 -> 0 | X2: ='別紙３（事業計画）'!N20 -> 0 | Y2: ='別紙３（事業計画）'!O20 -> 0 | Z2: ='別紙３（事業計画）'!P19 -> 0 | AA2: ='別紙３（事業計画）'!Q19 -> 0 | AB2: ='別紙３（事業計画）'!A26 -> 0 | AC2: ='別紙３（事業計画）'!B26 -> 0 | AD2: ='別紙３（事業計画）'!C26 -> 0 | AE2: ='別紙３（事業計画）'!D26 -> 0 | AF2: ='別紙３（事業計画）'!E26 -> 0 | AG2: ='別紙３（事業計画）'!F26 -> 0 | AH2: ='別紙３（事業計画）'!G25 -> 0 | AJ2: ='別紙１（所要額調書）'!N14 -> 0 | AK2: ='別紙１（所要額調書）'!M17 -> 0 | AL2: ='別紙１（所要額調書）'!O17 -> 0 | AM2: ='別紙１（所要額調書）'!I15 -> 0 | AN2: ='別紙１（所要額調書）'!I16 -> 0
